Workbook
Name ir__inform._par_divid._nav: '[1]Lielās-kapsab.'!#REF!
Name ir__inform._par_divid._nav: '[1]Lielās-kapsab.'!#REF!
Name ir__inform._par_divid._nav: 'Lielās-kapsab.'!#REF!

Sheet Saraksts
A1: Saraksts | H1: Vērtējumi no 1.p.-7.p
H2: ir | I2: 1
H3: daļēji | I3: 0.5
H4: nav | I4: 0
H5: nav attiecināms | I5: -
H7: Vērtējumi no 8.p-9.p.
H8: ziņa ir | I8: √
H9: ziņu nav | I9: -

Sheet InfoPanenlis
A1: Pašvaldību kapitālsabiedrību informācijas publiskošanas Informācijas panelis
A3: Pārbaudes periods: 2026. gada 20.–22. jūlijs | Datu avots: darba failā apkopotie tīmekļvietņu vērtējumi
A4: Pašvaldības | D4: Vidējā atbilstība | G4: Mediāna | J4: Pašvaldības ar ≥75% | M4: Pilna atbilstība
A5: 43 | D5: =AVERAGE(Dati_Dashboard!B2:B44) -> 0.61434109 | G5: =MEDIAN(Dati_Dashboard!B2:B44) -> 0.66666667 | J5: =COUNTIF(Dati_Dashboard!B2:B44,">=0,75") -> 17 | M5: =COUNTIF(Dati_Dashboard!B2:B44,1) -> 2
A9: Pašvaldību rezultātu sadalījums | H9: TOP un zemākie rezultāti
H10: TOP 5 | K10: Zemākie 5
H11: Alūksnes novada pašvaldība | J11: 1 | K11: Smiltenes novada pašvaldība | M11: 0.25
H12: Tukuma novada pašvaldība | J12: 1 | K12: Varakļānu novada pašvaldība | M12: 0.25
H13: Jēkabpils novada pašvaldība | J13: 0.91666667 | K13: Gulbenes novada pašvaldība | M13: 0.21428571
H14: Kuldīgas novada pašvaldība | J14: 0.91666667 | K14: Valkas novada pašvaldība | M14: 0.16666667
H15: Liepājas valstspilsētas pašvaldība | J15: 0.91666667 | K15: Madonas novada pašvaldība | M15: 0.083333333
H17: Galvenie secinājumi • 2 pašvaldības sasniedz 100% atbilstību. • Būtiskākās nepilnības koncentrējas kritērijos par informācijas grupēšanu/aktualizēšanu un budžeta maksājumiem. • Daļai pašvaldību informācija ir novecojusi vai izkaisīta vairākās sadaļās. • Ikgadējā pārskata publicēšana nav vienmērīgi nodrošināta.
A26: Kritēriju izpilde pašvaldībās | H26: Lielo kapitālsabiedrību rezultāti
H27: Kapitālsabiedrība | I27: Atbilstība | J27: Ir | K27: Daļēji | L27: Nav
H28: SIA "Rīgas ūdens" | I28: 1 | J28: 18 | K28: 0 | L28: 0
H29: SIA "Rīgas meži" | I29: 1 | J29: 18 | K29: 0 | L29: 0
H30: SIA "LIEPĀJAS REĢIONĀLĀ SLIMNĪCA" | I30: 0.97222222 | J30: 17 | K30: 1 | L30: 0
H31: Rīgas pašvaldības SIA "Rīgas satiksme" | I31: 0.97222222 | J31: 17 | K31: 1 | L31: 0
H32: SIA "Rīgas namu pārvaldnieks" | I32: 0.97222222 | J32: 17 | K32: 1 | L32: 0
H33: SIA "Rīgas nami" | I33: 0.94444444 | J33: 17 | K33: 0 | L33: 1
H34: SIA "Daugavpils ūdens" | I34: 0.86111111 | J34: 15 | K34: 1 | L34: 2
H35: SIA "Ziemeļkurzemes reģionālā slimnīca" | I35: 0.86111111 | J35: 15 | K35: 1 | L35: 2
H36: SIA "Daugavpils satiksme" | I36: 0.86111111 | J36: 15 | K36: 1 | L36: 2
H37: SIA "Vidzemes slimnīca" | I37: 0.83333333 | J37: 14 | K37: 2 | L37: 2
H38: AS "RĪGAS SILTUMS" | I38: 0.80555556 | J38: 14 | K38: 1 | L38: 3
H39: SIA "RĒZEKNES SLIMNĪCA" | I39: 0.69444444 | J39: 10 | K39: 5 | L39: 3
H40: SIA "Daugavpils reģionālā slimnīca" | I40: 0.69444444 | J40: 10 | K40: 5 | L40: 3
H42: Vidējā atbilstība | K42: 90% un vairāk
H43: =AVERAGE(Dati_Dashboard!B49:B61) -> 0.88247863 | K43: =COUNTIF(Dati_Dashboard!B49:B61,">=0,9") -> 6

Sheet Vērtējumu_tabula
A1: Pašvaldība
A2: Ādažu novada pašvaldība | B2: 42.857143
A3: Aizkraukles novada pašvaldība | B3: 33.333333
A4: Alūksnes novada pašvaldība | B4: 100 | D4: 100% | E4: =COUNTIFS(B2:B44,"100") -> 2
A5: Augšdaugavas novada pašvaldība | B5: 58.333333 | D5: virs 75-99% | E5: =COUNTIFS(B2:B44,">75",B2:B44,"<100") -> 11
A6: Balvu novada pašvaldība | B6: 28.571429 | D6: >50-75% | E6: =COUNTIFS($B$2:$B$44,">=50",$B$2:$B$44,"<75") -> 14
A7: Bauskas novada pašvaldība | B7: 58.333333 | D7: >30-50% | E7: =COUNTIFS($B$2:$B$44,">30",$B$2:$B$44,"<50") -> 5
A8: Cēsu novada pašvaldība | B8: 75 | D8: līdz 30% | E8: =COUNTIFS($B$2:$B$44,">1",$B$2:$B$44,"<30") -> 7
A9: Daugavpils valstspilsētas pašvaldība | B9: 83.333333 | D9: 0% | E9: =COUNTIFS($B$2:$B$44,"=0") -> 0
A10: Dienvidkurzemes novada pašvaldība | B10: 58.333333
A11: Dobeles novada pašvaldība | B11: 83.333333
A12: Gulbenes novada pašvaldība | B12: 21.428571
A13: Jēkabpils novada pašvaldība | B13: 91.666667
A14: Jelgavas novada pašvaldība | B14: 58.333333
A15: Jelgavas valstspilsētas pašvaldība | B15: 42.857143
A16: Jūrmalas valstspilsētas pašvaldība | B16: 83.333333
A17: Krāslavas novada pašvaldība | B17: 33.333333
A18: Kuldīgas novada pašvaldība | B18: 91.666667
A19: Ķekavas novada pašvaldība | B19: 41.666667
A20: Liepājas valstspilsētas pašvaldība | B20: 91.666667
A21: Limbažu novada pašvaldība | B21: 58.333333
... A44: Ventspils valstspilsētas pašvaldība | B44: 71.428571

Sheet Pašvald._tīmekļv
A1: Tīmekļa vietne, kurā veikta pārbaude | B1: Saņemtie vērtējuma punkti (par 1.-7.) | C1: Atbilstība % | D1: Pašvaldība | E1: pārbaudes datums | F1: info no tīmekļa vietnes par informācijas atjauninājumu | G1: 1. Kapitālsab. saraksts, kas grupēts pēc nozares vai lieluma kritērijiem | H1: VĒRTĒJUMS PUNKTOS | I1: 2. Kapitālsab. firma, juridiskā adrese, pamatkapitāla lielums un pašvaldības līdzdalības apmērs | J1: VĒRTĒJUMS PUNKTOS | K1: 3. Pašvaldības līdzdalības atbilstība likuma nosacījumiem un vispārējais stratēģiskais mērķis | L1: VĒRTĒJUMS PUNKTOS | M1: 4. Kapitālsab. līdzdalība citās sabiedrībās un tās atbilstība likuma nosacījumiem | N1: VĒRTĒJUMS PUNKTOS | O1: 5. Kapitāla daļu turētāja pārstāvis kapitālsabiedrībā | P1: VĒRTĒJUMS PUNKTOS | Q1: 6. Aktuāls apstiprinātais gada pārskats | R1: VĒRTĒJUMS PUNKTOS | S1: 7. Kapitālsab. izmaksātās dividendes pašvaldībai un veiktie maksājumi valsts budžetā un pašvaldības budžetos | T1: VĒRTĒJUMS PUNKTOS | U1: 8. Ziņas par to, vai pašvaldība ir paredzējusi izbeigt līdzdalību kapitālsabiedrībā | V1: VĒRTĒJUMS | W1: 9. Ziņas par uzsākto kapitālsabiedrības reorganizāciju vai pārveidi | X1: VĒRTĒJUMS | Y1: 10) ikgadējais pārskats par atvasinātai publiskai personai piederošām kapitālsabiedrībām un kapitāla daļām, kurā iekļauj arī informāciju par to, kā pašvaldība un tai piederošās kapitālsabiedrības izpildījušas inform. publisk. prasības atbilstoši likumam | Z1: Piezīmes
A2: Kapitālsabiedrības | Ādaži (adazunovads.lv) | B2: =SUM(H2,J2,L2,N2,P2,R2,T2) -> 3 | C2: =B2/7 -> 0.42857143 | D2: Ādažu novada pašvaldība | E2: 46223 | F2: Aktualizēts: 10.09.2025. | G2: nav | H2: =VLOOKUP(G2,Saraksts!$H$2:$I$5,2,0) -> 0 | I2: daļēji | J2: =VLOOKUP(I2,Saraksts!$H$2:$I$5,2,0) -> 0.5 | K2: ir | L2: =VLOOKUP(K2,Saraksts!$H$2:$I$5,2,0) -> 1 | M2: daļēji | N2: =VLOOKUP(M2,Saraksts!$H$2:$I$5,2,0) -> 0.5 | O2: nav | P2: =VLOOKUP(O2,Saraksts!$H$2:$I$5,2,0) -> 0 | Q2: ir | R2: =VLOOKUP(Q2,Saraksts!$H$2:$I$5,2,0) -> 1 | S2: nav | T2: =VLOOKUP(S2,Saraksts!$H$2:$I$5,2,0) -> 0 | U2: ziņu nav | V2: =VLOOKUP(U2,Saraksts!$H$8:$I$9,2,0) -> - | W2: ziņu nav | X2: =VLOOKUP(W2,Saraksts!$H$8:$I$9,2,0) -> - | Y2: Informācija nav publiskota | Z2: trūkst informācija par divām kapitālsabiedrībām
A3: Kapitālsabiedrības | Aizkraukles novada pašvaldība | B3: =SUM(H3,J3,L3,N3,P3,R3,T3) -> 2 | C3: =B3/6 -> 0.33333333 | D3: Aizkraukles novada pašvaldība | E3: 46223 | F3: Informācija atjaunota 21.10.2025. | G3: nav | H3: =VLOOKUP(G3,Saraksts!$H$2:$I$5,2,0) -> 0 | I3: nav | J3: =VLOOKUP(I3,Saraksts!$H$2:$I$5,2,0) -> 0 | K3: daļēji | L3: =VLOOKUP(K3,Saraksts!$H$2:$I$5,2,0) -> 0.5 | M3: nav attiecināms | N3: =VLOOKUP(M3,Saraksts!$H$2:$I$5,2,0) -> - | O3: ir | P3: =VLOOKUP(O3,Saraksts!$H$2:$I$5,2,0) -> 1 | Q3: daļēji | R3: =VLOOKUP(Q3,Saraksts!$H$2:$I$5,2,0) -> 0.5 | S3: nav | T3: =VLOOKUP(S3,Saraksts!$H$2:$I$5,2,0) -> 0 | U3: ziņu nav | V3: =VLOOKUP(U3,Saraksts!$H$8:$I$9,2,0) -> - | W3: ziņu nav | X3: =VLOOKUP(W3,Saraksts!$H$8:$I$9,2,0) -> - | Y3: Informācija nav publiskota | Z3: juridiskā adr. un reģ.nr. jāmeklē no gada pārskata
A4: Kapitāl sabiedrības | Alūksnes novads (aluksne.lv) | B4: =SUM(H4,J4,L4,N4,P4,R4,T4) -> 7 | C4: =B4/7 -> 1 | D4: Alūksnes novada pašvaldība | E4: 46223 | F4: Sagatavots 26.09.2025. | G4: ir | H4: =VLOOKUP(G4,Saraksts!$H$2:$I$5,2,0) -> 1 | I4: ir | J4: =VLOOKUP(I4,Saraksts!$H$2:$I$5,2,0) -> 1 | K4: ir | L4: =VLOOKUP(K4,Saraksts!$H$2:$I$5,2,0) -> 1 | M4: ir | N4: =VLOOKUP(M4,Saraksts!$H$2:$I$5,2,0) -> 1 | O4: ir | P4: =VLOOKUP(O4,Saraksts!$H$2:$I$5,2,0) -> 1 | Q4: ir | R4: =VLOOKUP(Q4,Saraksts!$H$2:$I$5,2,0) -> 1 | S4: ir | T4: =VLOOKUP(S4,Saraksts!$H$2:$I$5,2,0) -> 1 | U4: ziņu nav | V4: =VLOOKUP(U4,Saraksts!$H$8:$I$9,2,0) -> - | W4: ziņu nav | X4: =VLOOKUP(W4,Saraksts!$H$8:$I$9,2,0) -> - | Y4: Informācija ir | Z4: informācija sagatavota pietiekamā apmērā
A5: Kapitālsabiedrības | Augšdaugavas novads (augsdaugavasnovads.lv) | B5: =SUM(H5,J5,L5,N5,P5,R5,T5) -> 3.5 | C5: =B5/6 -> 0.58333333 | D5: Augšdaugavas novada pašvaldība | E5: 46223 | F5: - | G5: daļēji | H5: =VLOOKUP(G5,Saraksts!$H$2:$I$5,2,0) -> 0.5 | I5: daļēji | J5: =VLOOKUP(I5,Saraksts!$H$2:$I$5,2,0) -> 0.5 | K5: daļēji | L5: =VLOOKUP(K5,Saraksts!$H$2:$I$5,2,0) -> 0.5 | M5: nav attiecināms | N5: =VLOOKUP(M5,Saraksts!$H$2:$I$5,2,0) -> - | O5: ir | P5: =VLOOKUP(O5,Saraksts!$H$2:$I$5,2,0) -> 1 | Q5: ir | R5: =VLOOKUP(Q5,Saraksts!$H$2:$I$5,2,0) -> 1 | S5: nav | T5: =VLOOKUP(S5,Saraksts!$H$2:$I$5,2,0) -> 0 | U5: ziņu nav | V5: =VLOOKUP(U5,Saraksts!$H$8:$I$9,2,0) -> - | W5: ziņu nav | X5: =VLOOKUP(W5,Saraksts!$H$8:$I$9,2,0) -> - | Y5: Informācija nav publiskota
A6: Kapitālsabiedrības | Balvu novada pašvaldība (balvi.lv) | B6: =SUM(H6,J6,L6,N6,P6,R6,T6) -> 2 | C6: =B6/7 -> 0.28571429 | D6: Balvu novada pašvaldība | E6: 46223 | F6: - | G6: nav | H6: =VLOOKUP(G6,Saraksts!$H$2:$I$5,2,0) -> 0 | I6: daļēji | J6: =VLOOKUP(I6,Saraksts!$H$2:$I$5,2,0) -> 0.5 | K6: daļēji | L6: =VLOOKUP(K6,Saraksts!$H$2:$I$5,2,0) -> 0.5 | M6: nav | N6: =VLOOKUP(M6,Saraksts!$H$2:$I$5,2,0) -> 0 | O6: ir | P6: =VLOOKUP(O6,Saraksts!$H$2:$I$5,2,0) -> 1 | Q6: nav | R6: =VLOOKUP(Q6,Saraksts!$H$2:$I$5,2,0) -> 0 | S6: nav | T6: =VLOOKUP(S6,Saraksts!$H$2:$I$5,2,0) -> 0 | U6: ziņa ir | V6: =VLOOKUP(U6,Saraksts!$H$8:$I$9,2,0) -> √ | W6: ziņa ir | X6: =VLOOKUP(W6,Saraksts!$H$8:$I$9,2,0) -> √ | Y6: Informācija nav publiskota | Z6: pašvaldības mājas lapā nav aktualizēta informācija kopš 2022. gada, vietām kopš 2020.gada,pašvaldība paļaujas tikai uz kapitālsabiedrību sniegto indfoemāciju
A7: Kapitālsabiedrības | Bauskas novads | B7: =SUM(H7,J7,L7,N7,P7,R7,T7) -> 3.5 | C7: =B7/6 -> 0.58333333 | D7: Bauskas novada pašvaldība | E7: 46223 | F7: Atjaunināts: 28.01.2026 par 2024.g | G7: nav | H7: =VLOOKUP(G7,Saraksts!$H$2:$I$5,2,0) -> 0 | I7: ir | J7: =VLOOKUP(I7,Saraksts!$H$2:$I$5,2,0) -> 1 | K7: ir | L7: =VLOOKUP(K7,Saraksts!$H$2:$I$5,2,0) -> 1 | M7: nav attiecināms | N7: =VLOOKUP(M7,Saraksts!$H$2:$I$5,2,0) -> - | O7: ir | P7: =VLOOKUP(O7,Saraksts!$H$2:$I$5,2,0) -> 1 | Q7: daļēji | R7: =VLOOKUP(Q7,Saraksts!$H$2:$I$5,2,0) -> 0.5 | S7: nav | T7: =VLOOKUP(S7,Saraksts!$H$2:$I$5,2,0) -> 0 | U7: ziņu nav | V7: =VLOOKUP(U7,Saraksts!$H$8:$I$9,2,0) -> - | W7: ziņu nav | X7: =VLOOKUP(W7,Saraksts!$H$8:$I$9,2,0) -> - | Y7: Informācija ir
A8: Kapitālsabiedrības, biedrības - cesis.lv | B8: =SUM(H8,J8,L8,N8,P8,R8,T8) -> 4.5 | C8: =B8/6 -> 0.75 | D8: Cēsu novada pašvaldība | E8: 46223 | F8: - | G8: daļēji | H8: =VLOOKUP(G8,Saraksts!$H$2:$I$5,2,0) -> 0.5 | I8: ir | J8: =VLOOKUP(I8,Saraksts!$H$2:$I$5,2,0) -> 1 | K8: ir | L8: =VLOOKUP(K8,Saraksts!$H$2:$I$5,2,0) -> 1 | M8: nav attiecināms | N8: =VLOOKUP(M8,Saraksts!$H$2:$I$5,2,0) -> - | O8: ir | P8: =VLOOKUP(O8,Saraksts!$H$2:$I$5,2,0) -> 1 | Q8: daļēji | R8: =VLOOKUP(Q8,Saraksts!$H$2:$I$5,2,0) -> 0.5 | S8: daļēji | T8: =VLOOKUP(S8,Saraksts!$H$2:$I$5,2,0) -> 0.5 | U8: ziņa ir | V8: =VLOOKUP(U8,Saraksts!$H$8:$I$9,2,0) -> √ | W8: ziņa ir | X8: =VLOOKUP(W8,Saraksts!$H$8:$I$9,2,0) -> √
A9: Daugavpils.lv | B9: =SUM(H9,J9,L9,N9,P9,R9,T9) -> 5 | C9: =B9/6 -> 0.83333333 | D9: Daugavpils valstspilsētas pašvaldība | E9: 46223 | F9: informācija atjaunota 17.06.2026 | G9: daļēji | H9: =VLOOKUP(G9,Saraksts!$H$2:$I$5,2,0) -> 0.5 | I9: ir | J9: =VLOOKUP(I9,Saraksts!$H$2:$I$5,2,0) -> 1 | K9: ir | L9: =VLOOKUP(K9,Saraksts!$H$2:$I$5,2,0) -> 1 | M9: nav attiecināms | N9: =VLOOKUP(M9,Saraksts!$H$2:$I$5,2,0) -> - | O9: ir | P9: =VLOOKUP(O9,Saraksts!$H$2:$I$5,2,0) -> 1 | Q9: daļēji | R9: =VLOOKUP(Q9,Saraksts!$H$2:$I$5,2,0) -> 0.5 | S9: ir | T9: =VLOOKUP(S9,Saraksts!$H$2:$I$5,2,0) -> 1 | U9: ziņu nav | V9: =VLOOKUP(U9,Saraksts!$H$8:$I$9,2,0) -> - | W9: ziņu nav | X9: =VLOOKUP(W9,Saraksts!$H$8:$I$9,2,0) -> - | Y9: Informācija ir
A10: Kapitālsabiedrības | Dienvidkurzemes novada pašvaldība (dkn.lv) | B10: =SUM(H10,J10,L10,N10,P10,R10,T10) -> 3.5 | C10: =B10/6 -> 0.58333333 | D10: Dienvidkurzemes novada pašvaldība | E10: 46223 | F10: Atjaunināts: 24.09.2025. | G10: nav | H10: =VLOOKUP(G10,Saraksts!$H$2:$I$5,2,0) -> 0 | I10: ir | J10: =VLOOKUP(I10,Saraksts!$H$2:$I$5,2,0) -> 1 | K10: ir | L10: =VLOOKUP(K10,Saraksts!$H$2:$I$5,2,0) -> 1 | M10: nav attiecināms | N10: =VLOOKUP(M10,Saraksts!$H$2:$I$5,2,0) -> - | O10: ir | P10: =VLOOKUP(O10,Saraksts!$H$2:$I$5,2,0) -> 1 | Q10: daļēji | R10: =VLOOKUP(Q10,Saraksts!$H$2:$I$5,2,0) -> 0.5 | S10: nav | T10: =VLOOKUP(S10,Saraksts!$H$2:$I$5,2,0) -> 0 | U10: ziņu nav | V10: =VLOOKUP(U10,Saraksts!$H$8:$I$9,2,0) -> - | W10: ziņu nav | X10: =VLOOKUP(W10,Saraksts!$H$8:$I$9,2,0) -> - | Y10: Informācija ir | Z10: mājas lapā trūkst aktuālas iemaksas budzētā un budžeta izlietojums
A11: Pašvaldības kapitālsabiedrības | Dobeles novada pašvaldība | B11: =SUM(H11,J11,L11,N11,P11,R11,T11) -> 5 | C11: =B11/6 -> 0.83333333 | D11: Dobeles novada pašvaldība | E11: 46223 | F11: Atjaunināts: 08.02.2026. | G11: daļēji | H11: =VLOOKUP(G11,Saraksts!$H$2:$I$5,2,0) -> 0.5 | I11: ir | J11: =VLOOKUP(I11,Saraksts!$H$2:$I$5,2,0) -> 1 | K11: daļēji | L11: =VLOOKUP(K11,Saraksts!$H$2:$I$5,2,0) -> 0.5 | M11: nav attiecināms | N11: =VLOOKUP(M11,Saraksts!$H$2:$I$5,2,0) -> - | O11: ir | P11: =VLOOKUP(O11,Saraksts!$H$2:$I$5,2,0) -> 1 | Q11: ir | R11: =VLOOKUP(Q11,Saraksts!$H$2:$I$5,2,0) -> 1 | S11: ir | T11: =VLOOKUP(S11,Saraksts!$H$2:$I$5,2,0) -> 1 | U11: ziņu nav | V11: =VLOOKUP(U11,Saraksts!$H$8:$I$9,2,0) -> - | W11: ziņa ir | X11: =VLOOKUP(W11,Saraksts!$H$8:$I$9,2,0) -> √ | Y11: Informācija ir
A12: Gulbenes novada pašvaldības kapitālsabiedrības | Gulbenes novada pašvaldība | B12: =SUM(H12,J12,L12,N12,P12,R12,T12) -> 1.5 | C12: =B12/7 -> 0.21428571 | D12: Gulbenes novada pašvaldība | E12: 46223 | F12: - | G12: nav | H12: =VLOOKUP(G12,Saraksts!$H$2:$I$5,2,0) -> 0 | I12: daļēji | J12: =VLOOKUP(I12,Saraksts!$H$2:$I$5,2,0) -> 0.5 | K12: daļēji | L12: =VLOOKUP(K12,Saraksts!$H$2:$I$5,2,0) -> 0.5 | M12: nav | N12: =VLOOKUP(M12,Saraksts!$H$2:$I$5,2,0) -> 0 | O12: nav | P12: =VLOOKUP(O12,Saraksts!$H$2:$I$5,2,0) -> 0 | Q12: daļēji | R12: =VLOOKUP(Q12,Saraksts!$H$2:$I$5,2,0) -> 0.5 | S12: nav | T12: =VLOOKUP(S12,Saraksts!$H$2:$I$5,2,0) -> 0 | U12: ziņu nav | V12: =VLOOKUP(U12,Saraksts!$H$8:$I$9,2,0) -> - | W12: ziņu nav | X12: =VLOOKUP(W12,Saraksts!$H$8:$I$9,2,0) -> - | Y12: Informācija nav publiskota | Z12: trūkst informācijas
A13: Kapitālsabiedrības | Jekabpils novada pašvaldība | B13: =SUM(H13,J13,L13,N13,P13,R13,T13) -> 5.5 | C13: =B13/6 -> 0.91666667 | D13: Jēkabpils novada pašvaldība | E13: 46223 | F13: Pievienots: 28.04.2026 (uz 01.01.2026.) | G13: daļēji | H13: =VLOOKUP(G13,Saraksts!$H$2:$I$5,2,0) -> 0.5 | I13: ir | J13: =VLOOKUP(I13,Saraksts!$H$2:$I$5,2,0) -> 1 | K13: ir | L13: =VLOOKUP(K13,Saraksts!$H$2:$I$5,2,0) -> 1 | M13: nav attiecināms | N13: =VLOOKUP(M13,Saraksts!$H$2:$I$5,2,0) -> - | O13: ir | P13: =VLOOKUP(O13,Saraksts!$H$2:$I$5,2,0) -> 1 | Q13: ir | R13: =VLOOKUP(Q13,Saraksts!$H$2:$I$5,2,0) -> 1 | S13: ir | T13: =VLOOKUP(S13,Saraksts!$H$2:$I$5,2,0) -> 1 | U13: ziņu nav | V13: =VLOOKUP(U13,Saraksts!$H$8:$I$9,2,0) -> - | W13: ziņu nav | X13: =VLOOKUP(W13,Saraksts!$H$8:$I$9,2,0) -> - | Y13: Informācija ir
A14: Kapitālsabiedrības | Jelgavas novada pašvaldība (jelgavasnovads.lv) | B14: =SUM(H14,J14,L14,N14,P14,R14,T14) -> 3.5 | C14: =B14/6 -> 0.58333333 | D14: Jelgavas novada pašvaldība | E14: 46223 | F14: Atjaunināts: 20.01.2026. | G14: daļēji | H14: =VLOOKUP(G14,Saraksts!$H$2:$I$5,2,0) -> 0.5 | I14: daļēji | J14: =VLOOKUP(I14,Saraksts!$H$2:$I$5,2,0) -> 0.5 | K14: ir | L14: =VLOOKUP(K14,Saraksts!$H$2:$I$5,2,0) -> 1 | M14: nav attiecināms | N14: =VLOOKUP(M14,Saraksts!$H$2:$I$5,2,0) -> - | O14: ir | P14: =VLOOKUP(O14,Saraksts!$H$2:$I$5,2,0) -> 1 | Q14: daļēji | R14: =VLOOKUP(Q14,Saraksts!$H$2:$I$5,2,0) -> 0.5 | S14: nav | T14: =VLOOKUP(S14,Saraksts!$H$2:$I$5,2,0) -> 0 | U14: ziņu nav | V14: =VLOOKUP(U14,Saraksts!$H$8:$I$9,2,0) -> - | W14: ziņu nav | X14: =VLOOKUP(W14,Saraksts!$H$8:$I$9,2,0) -> -
A15: Pašvaldības iestādes un kapitālsabiedrības - Jelgava | B15: =SUM(H15,J15,L15,N15,P15,R15,T15) -> 3 | C15: =B15/7 -> 0.42857143 | D15: Jelgavas valstspilsētas pašvaldība | E15: 46223 | F15: - | G15: ir | H15: =VLOOKUP(G15,Saraksts!$H$2:$I$5,2,0) -> 1 | I15: daļēji | J15: =VLOOKUP(I15,Saraksts!$H$2:$I$5,2,0) -> 0.5 | K15: daļēji | L15: =VLOOKUP(K15,Saraksts!$H$2:$I$5,2,0) -> 0.5 | M15: daļēji | N15: =VLOOKUP(M15,Saraksts!$H$2:$I$5,2,0) -> 0.5 | O15: nav | P15: =VLOOKUP(O15,Saraksts!$H$2:$I$5,2,0) -> 0 | Q15: daļēji | R15: =VLOOKUP(Q15,Saraksts!$H$2:$I$5,2,0) -> 0.5 | S15: nav | T15: =VLOOKUP(S15,Saraksts!$H$2:$I$5,2,0) -> 0 | U15: ziņu nav | V15: =VLOOKUP(U15,Saraksts!$H$8:$I$9,2,0) -> - | W15: ziņu nav | X15: =VLOOKUP(W15,Saraksts!$H$8:$I$9,2,0) -> - | Y15: Informācija nav publiskota | Z15: informācija nav aktualizēta
A16: Kapitālsabiedrības | Jūrmalas valstspilsētas pašvaldība (jurmala.lv) | B16: =SUM(H16,J16,L16,N16,P16,R16,T16) -> 5 | C16: =B16/6 -> 0.83333333 | D16: Jūrmalas valstspilsētas pašvaldība | E16: 46223 | F16: Atjaunināts: 26.05.2026. | G16: daļēji | H16: =VLOOKUP(G16,Saraksts!$H$2:$I$5,2,0) -> 0.5 | I16: daļēji | J16: =VLOOKUP(I16,Saraksts!$H$2:$I$5,2,0) -> 0.5 | K16: ir | L16: =VLOOKUP(K16,Saraksts!$H$2:$I$5,2,0) -> 1 | M16: nav attiecināms | N16: =VLOOKUP(M16,Saraksts!$H$2:$I$5,2,0) -> - | O16: ir | P16: =VLOOKUP(O16,Saraksts!$H$2:$I$5,2,0) -> 1 | Q16: ir | R16: =VLOOKUP(Q16,Saraksts!$H$2:$I$5,2,0) -> 1 | S16: ir | T16: =VLOOKUP(S16,Saraksts!$H$2:$I$5,2,0) -> 1 | U16: ziņu nav | V16: =VLOOKUP(U16,Saraksts!$H$8:$I$9,2,0) -> - | W16: ziņu nav | X16: =VLOOKUP(W16,Saraksts!$H$8:$I$9,2,0) -> - | Y16: Informācija nav publiskota | Z16: Informāciju par kap.sab. ir viegli atrast
A17: Kapitālsabiedrības | Krāslavas novada pašvaldība (kraslava.lv) | B17: =SUM(H17,J17,L17,N17,P17,R17,T17) -> 2 | C17: =B17/6 -> 0.33333333 | D17: Krāslavas novada pašvaldība | E17: 46223 | F17: - | G17: daļēji | H17: =VLOOKUP(G17,Saraksts!$H$2:$I$5,2,0) -> 0.5 | I17: daļēji | J17: =VLOOKUP(I17,Saraksts!$H$2:$I$5,2,0) -> 0.5 | K17: daļēji | L17: =VLOOKUP(K17,Saraksts!$H$2:$I$5,2,0) -> 0.5 | M17: nav attiecināms | N17: =VLOOKUP(M17,Saraksts!$H$2:$I$5,2,0) -> - | O17: nav | P17: =VLOOKUP(O17,Saraksts!$H$2:$I$5,2,0) -> 0 | Q17: daļēji | R17: =VLOOKUP(Q17,Saraksts!$H$2:$I$5,2,0) -> 0.5 | S17: nav | T17: =VLOOKUP(S17,Saraksts!$H$2:$I$5,2,0) -> 0 | U17: ziņu nav | V17: =VLOOKUP(U17,Saraksts!$H$8:$I$9,2,0) -> - | W17: ziņu nav | X17: =VLOOKUP(W17,Saraksts!$H$8:$I$9,2,0) -> - | Y17: Informācija nav publiskota | Z17: Pievienotie dokumenti ir ar dažādu aktualitāti
A18: Kapitālsabiedrības | Kuldīgas novada pašvaldība (kuldigasnovads.lv) | B18: =SUM(H18,J18,L18,N18,P18,R18,T18) -> 5.5 | C18: =B18/6 -> 0.91666667 | D18: Kuldīgas novada pašvaldība | E18: 46223 | F18: - | G18: daļēji | H18: =VLOOKUP(G18,Saraksts!$H$2:$I$5,2,0) -> 0.5 | I18: ir | J18: =VLOOKUP(I18,Saraksts!$H$2:$I$5,2,0) -> 1 | K18: ir | L18: =VLOOKUP(K18,Saraksts!$H$2:$I$5,2,0) -> 1 | M18: nav attiecināms | N18: =VLOOKUP(M18,Saraksts!$H$2:$I$5,2,0) -> - | O18: ir | P18: =VLOOKUP(O18,Saraksts!$H$2:$I$5,2,0) -> 1 | Q18: ir | R18: =VLOOKUP(Q18,Saraksts!$H$2:$I$5,2,0) -> 1 | S18: ir | T18: =VLOOKUP(S18,Saraksts!$H$2:$I$5,2,0) -> 1 | U18: ziņu nav | V18: =VLOOKUP(U18,Saraksts!$H$8:$I$9,2,0) -> - | W18: ziņu nav | X18: =VLOOKUP(W18,Saraksts!$H$8:$I$9,2,0) -> - | Y18: Informācija nav | Z18: informācija jāmeklē no gada pārskata
A19: Ķekavas novada pašvaldība saglabās līdzdalību kapitālsabiedrībās - Ķekavas novads (kekava.lv) | B19: =SUM(H19,J19,L19,N19,P19,R19,T19) -> 2.5 | C19: =B19/6 -> 0.41666667 | D19: Ķekavas novada pašvaldība | E19: 46223 | F19: - | G19: nav | H19: =VLOOKUP(G19,Saraksts!$H$2:$I$5,2,0) -> 0 | I19: daļēji | J19: =VLOOKUP(I19,Saraksts!$H$2:$I$5,2,0) -> 0.5 | K19: ir | L19: =VLOOKUP(K19,Saraksts!$H$2:$I$5,2,0) -> 1 | M19: nav attiecināms | N19: =VLOOKUP(M19,Saraksts!$H$2:$I$5,2,0) -> - | O19: ir | P19: =VLOOKUP(O19,Saraksts!$H$2:$I$5,2,0) -> 1 | Q19: nav | R19: =VLOOKUP(Q19,Saraksts!$H$2:$I$5,2,0) -> 0 | S19: nav | T19: =VLOOKUP(S19,Saraksts!$H$2:$I$5,2,0) -> 0 | U19: ziņu nav | V19: =VLOOKUP(U19,Saraksts!$H$8:$I$9,2,0) -> - | W19: ziņa ir | X19: =VLOOKUP(W19,Saraksts!$H$8:$I$9,2,0) -> √ | Y19: Informācija ir
A20: Publiskojamā informācija par kapitālsabiedrībām | Liepāja | B20: =SUM(H20,J20,L20,N20,P20,R20,T20) -> 5.5 | C20: =B20/6 -> 0.91666667 | D20: Liepājas valstspilsētas pašvaldība | E20: 46223 | F20: Publicēts 6. maijs, 2026 par 2024.gadu | G20: daļēji | H20: =VLOOKUP(G20,Saraksts!$H$2:$I$5,2,0) -> 0.5 | I20: ir | J20: =VLOOKUP(I20,Saraksts!$H$2:$I$5,2,0) -> 1 | K20: ir | L20: =VLOOKUP(K20,Saraksts!$H$2:$I$5,2,0) -> 1 | M20: nav attiecināms | N20: =VLOOKUP(M20,Saraksts!$H$2:$I$5,2,0) -> - | O20: ir | P20: =VLOOKUP(O20,Saraksts!$H$2:$I$5,2,0) -> 1 | Q20: ir | R20: =VLOOKUP(Q20,Saraksts!$H$2:$I$5,2,0) -> 1 | S20: ir | T20: =VLOOKUP(S20,Saraksts!$H$2:$I$5,2,0) -> 1 | U20: ziņu nav | V20: =VLOOKUP(U20,Saraksts!$H$8:$I$9,2,0) -> - | W20: ziņu nav | X20: =VLOOKUP(W20,Saraksts!$H$8:$I$9,2,0) -> - | Y20: Informācija ir | Z20: finanšu dati pie kopējās informācijas
A21: Kapitālsabiedrības | Limbažu novada pašvaldība (limbazunovads.lv) | B21: =SUM(H21,J21,L21,N21,P21,R21,T21) -> 3.5 | C21: =B21/6 -> 0.58333333 | D21: Limbažu novada pašvaldība | E21: 46223 | F21: Atjaunināts: 08.02.2026. | G21: nav | H21: =VLOOKUP(G21,Saraksts!$H$2:$I$5,2,0) -> 0 | I21: ir | J21: =VLOOKUP(I21,Saraksts!$H$2:$I$5,2,0) -> 1 | K21: ir | L21: =VLOOKUP(K21,Saraksts!$H$2:$I$5,2,0) -> 1 | M21: nav attiecināms | N21: =VLOOKUP(M21,Saraksts!$H$2:$I$5,2,0) -> - | O21: ir | P21: =VLOOKUP(O21,Saraksts!$H$2:$I$5,2,0) -> 1 | Q21: daļēji | R21: =VLOOKUP(Q21,Saraksts!$H$2:$I$5,2,0) -> 0.5 | S21: nav | T21: =VLOOKUP(S21,Saraksts!$H$2:$I$5,2,0) -> 0 | U21: ziņa ir | V21: =VLOOKUP(U21,Saraksts!$H$8:$I$9,2,0) -> √ | W21: ziņu nav | X21: =VLOOKUP(W21,Saraksts!$H$8:$I$9,2,0) -> - | Y21: Informācija ir
A22: Kapitālsabiedrības | Līvānu novada pašvaldība (livani.lv) | B22: =SUM(H22,J22,L22,N22,P22,R22,T22) -> 3.5 | C22: =B22/6 -> 0.58333333 | D22: Līvānu novada pašvaldība | E22: 46223 | F22: Atjaunināts: 26.01.2026. | G22: daļēji | H22: =VLOOKUP(G22,Saraksts!$H$2:$I$5,2,0) -> 0.5 | I22: ir | J22: =VLOOKUP(I22,Saraksts!$H$2:$I$5,2,0) -> 1 | K22: daļēji | L22: =VLOOKUP(K22,Saraksts!$H$2:$I$5,2,0) -> 0.5 | M22: nav attiecināms | N22: =VLOOKUP(M22,Saraksts!$H$2:$I$5,2,0) -> - | O22: ir | P22: =VLOOKUP(O22,Saraksts!$H$2:$I$5,2,0) -> 1 | Q22: daļēji | R22: =VLOOKUP(Q22,Saraksts!$H$2:$I$5,2,0) -> 0.5 | S22: nav | T22: =VLOOKUP(S22,Saraksts!$H$2:$I$5,2,0) -> 0 | U22: ziņa ir | V22: =VLOOKUP(U22,Saraksts!$H$8:$I$9,2,0) -> √ | W22: ziņa ir | X22: =VLOOKUP(W22,Saraksts!$H$8:$I$9,2,0) -> √ | Y22: Informācija ir | Z22: pašvaldības mājas lapā ir informācija, kas nav aktualizēta
A23: Kapitālsabiedrības | Ludzas novada pašvaldība (ludzasnovads.lv) | B23: =SUM(H23,J23,L23,N23,P23,R23,T23) -> 4.5 | C23: =B23/6 -> 0.75 | D23: Ludzas novada pašvaldība | E23: 46223 | F23: Atjaunināts: 22.01.2026. par 2024.g | G23: daļēji | H23: =VLOOKUP(G23,Saraksts!$H$2:$I$5,2,0) -> 0.5 | I23: ir | J23: =VLOOKUP(I23,Saraksts!$H$2:$I$5,2,0) -> 1 | K23: ir | L23: =VLOOKUP(K23,Saraksts!$H$2:$I$5,2,0) -> 1 | M23: nav attiecināms | N23: =VLOOKUP(M23,Saraksts!$H$2:$I$5,2,0) -> - | O23: ir | P23: =VLOOKUP(O23,Saraksts!$H$2:$I$5,2,0) -> 1 | Q23: daļēji | R23: =VLOOKUP(Q23,Saraksts!$H$2:$I$5,2,0) -> 0.5 | S23: daļēji | T23: =VLOOKUP(S23,Saraksts!$H$2:$I$5,2,0) -> 0.5 | U23: ziņa ir | V23: =VLOOKUP(U23,Saraksts!$H$8:$I$9,2,0) -> √ | W23: ziņu nav | X23: =VLOOKUP(W23,Saraksts!$H$8:$I$9,2,0) -> - | Y23: Informācija ir
A24: Pašvaldības kapitālsabiedrības - Madona.lv | B24: =SUM(H24,J24,L24,N24,P24,R24,T24) -> 0.5 | C24: =B24/6 -> 0.083333333 | D24: Madonas novada pašvaldība | E24: 46224 | F24: - | G24: nav | H24: =VLOOKUP(G24,Saraksts!$H$2:$I$5,2,0) -> 0 | I24: nav | J24: =VLOOKUP(I24,Saraksts!$H$2:$I$5,2,0) -> 0 | K24: nav | L24: =VLOOKUP(K24,Saraksts!$H$2:$I$5,2,0) -> 0 | M24: nav attiecināms | N24: =VLOOKUP(M24,Saraksts!$H$2:$I$5,2,0) -> - | O24: nav | P24: =VLOOKUP(O24,Saraksts!$H$2:$I$5,2,0) -> 0 | Q24: daļēji | R24: =VLOOKUP(Q24,Saraksts!$H$2:$I$5,2,0) -> 0.5 | S24: nav | T24: =VLOOKUP(S24,Saraksts!$H$2:$I$5,2,0) -> 0 | U24: ziņu nav | V24: =VLOOKUP(U24,Saraksts!$H$8:$I$9,2,0) -> - | W24: ziņu nav | X24: =VLOOKUP(W24,Saraksts!$H$8:$I$9,2,0) -> - | Y24: Informācija nav publiskota | Z24: Mājas lapā info par kap.sab. tikai pie kontaktiem. Madonas novada pašvaldībai norādīta saite uz Cesvaines novada mājaslapā publicēto informāciju par kap.sab., bet tur trūkst aktuāla informācija
A25: Kapitālsabiedrības | Mārupe (marupe.lv) | B25: =SUM(H25,J25,L25,N25,P25,R25,T25) -> 4.5 | C25: =B25/6 -> 0.75 | D25: Mārupes novada pašvaldība | E25: 46224 | F25: - | G25: nav | H25: =VLOOKUP(G25,Saraksts!$H$2:$I$5,2,0) -> 0 | I25: daļēji | J25: =VLOOKUP(I25,Saraksts!$H$2:$I$5,2,0) -> 0.5 | K25: ir | L25: =VLOOKUP(K25,Saraksts!$H$2:$I$5,2,0) -> 1 | M25: nav attiecināms | N25: =VLOOKUP(M25,Saraksts!$H$2:$I$5,2,0) -> - | O25: ir | P25: =VLOOKUP(O25,Saraksts!$H$2:$I$5,2,0) -> 1 | Q25: ir | R25: =VLOOKUP(Q25,Saraksts!$H$2:$I$5,2,0) -> 1 | S25: ir | T25: =VLOOKUP(S25,Saraksts!$H$2:$I$5,2,0) -> 1 | U25: ziņa ir | V25: =VLOOKUP(U25,Saraksts!$H$8:$I$9,2,0) -> √ | W25: ziņa ir | X25: =VLOOKUP(W25,Saraksts!$H$8:$I$9,2,0) -> √ | Y25: Informācija nav publiskota
A26: Kapitālsabiedrības | Ogres novada pašvaldība (ogresnovads.lv) | B26: =SUM(H26,J26,L26,N26,P26,R26,T26) -> 4 | C26: =B26/6 -> 0.66666667 | D26: Ogres novada pašvaldība | E26: 46224 | F26: Atjaunināts: 05.02.2026. par 2024.gadu | G26: nav | H26: =VLOOKUP(G26,Saraksts!$H$2:$I$5,2,0) -> 0 | I26: ir | J26: =VLOOKUP(I26,Saraksts!$H$2:$I$5,2,0) -> 1 | K26: ir | L26: =VLOOKUP(K26,Saraksts!$H$2:$I$5,2,0) -> 1 | M26: nav attiecināms | N26: =VLOOKUP(M26,Saraksts!$H$2:$I$5,2,0) -> - | O26: ir | P26: =VLOOKUP(O26,Saraksts!$H$2:$I$5,2,0) -> 1 | Q26: ir | R26: =VLOOKUP(Q26,Saraksts!$H$2:$I$5,2,0) -> 1 | S26: nav | T26: =VLOOKUP(S26,Saraksts!$H$2:$I$5,2,0) -> 0 | U26: ziņu nav | V26: =VLOOKUP(U26,Saraksts!$H$8:$I$9,2,0) -> - | W26: ziņu nav | X26: =VLOOKUP(W26,Saraksts!$H$8:$I$9,2,0) -> - | Y26: Informācija ir
A27: Olaine | B27: =SUM(H27,J27,L27,N27,P27,R27,T27) -> 1.5 | C27: =B27/6 -> 0.25 | D27: Olaines novada pašvaldība | E27: 46224 | F27: - | G27: nav | H27: =VLOOKUP(G27,Saraksts!$H$2:$I$5,2,0) -> 0 | I27: daļēji | J27: =VLOOKUP(I27,Saraksts!$H$2:$I$5,2,0) -> 0.5 | K27: daļēji | L27: =VLOOKUP(K27,Saraksts!$H$2:$I$5,2,0) -> 0.5 | M27: nav attiecināms | N27: =VLOOKUP(M27,Saraksts!$H$2:$I$5,2,0) -> - | O27: nav | P27: =VLOOKUP(O27,Saraksts!$H$2:$I$5,2,0) -> 0 | Q27: daļēji | R27: =VLOOKUP(Q27,Saraksts!$H$2:$I$5,2,0) -> 0.5 | S27: nav | T27: =VLOOKUP(S27,Saraksts!$H$2:$I$5,2,0) -> 0 | U27: ziņu nav | V27: =VLOOKUP(U27,Saraksts!$H$8:$I$9,2,0) -> - | W27: ziņu nav | X27: =VLOOKUP(W27,Saraksts!$H$8:$I$9,2,0) -> - | Y27: Informācija nav publiskota | Z27: Atsauce uz pašvaldības kap.sab. https://www.olaine.lv/lv/pasvaldiba/par-pasvaldibu un publiskajā pārskatā
A28: Kapitālsabiedrības | Preiļi (preili.lv) | B28: =SUM(H28,J28,L28,N28,P28,R28,T28) -> 4 | C28: =B28/6 -> 0.66666667 | D28: Preiļu novada pašvaldība | E28: 46224 | F28: - | G28: nav | H28: =VLOOKUP(G28,Saraksts!$H$2:$I$5,2,0) -> 0 | I28: ir | J28: =VLOOKUP(I28,Saraksts!$H$2:$I$5,2,0) -> 1 | K28: ir | L28: =VLOOKUP(K28,Saraksts!$H$2:$I$5,2,0) -> 1 | M28: nav attiecināms | N28: =VLOOKUP(M28,Saraksts!$H$2:$I$5,2,0) -> - | O28: ir | P28: =VLOOKUP(O28,Saraksts!$H$2:$I$5,2,0) -> 1 | Q28: ir | R28: =VLOOKUP(Q28,Saraksts!$H$2:$I$5,2,0) -> 1 | S28: nav | T28: =VLOOKUP(S28,Saraksts!$H$2:$I$5,2,0) -> 0 | U28: ziņu nav | V28: =VLOOKUP(U28,Saraksts!$H$8:$I$9,2,0) -> - | W28: ziņu nav | X28: =VLOOKUP(W28,Saraksts!$H$8:$I$9,2,0) -> - | Y28: Informācija ir
A29: Kapitālsabiedrības - (rezeknesnovads.lv) | B29: =SUM(H29,J29,L29,N29,P29,R29,T29) -> 4 | C29: =B29/6 -> 0.66666667 | D29: Rēzeknes novada pašvaldība | E29: 46224 | F29: - | G29: nav | H29: =VLOOKUP(G29,Saraksts!$H$2:$I$5,2,0) -> 0 | I29: ir | J29: =VLOOKUP(I29,Saraksts!$H$2:$I$5,2,0) -> 1 | K29: ir | L29: =VLOOKUP(K29,Saraksts!$H$2:$I$5,2,0) -> 1 | M29: nav attiecināms | N29: =VLOOKUP(M29,Saraksts!$H$2:$I$5,2,0) -> - | O29: ir | P29: =VLOOKUP(O29,Saraksts!$H$2:$I$5,2,0) -> 1 | Q29: daļēji | R29: =VLOOKUP(Q29,Saraksts!$H$2:$I$5,2,0) -> 0.5 | S29: daļēji | T29: =VLOOKUP(S29,Saraksts!$H$2:$I$5,2,0) -> 0.5 | U29: ziņu nav | V29: =VLOOKUP(U29,Saraksts!$H$8:$I$9,2,0) -> - | W29: ziņu nav | X29: =VLOOKUP(W29,Saraksts!$H$8:$I$9,2,0) -> - | Y29: Informācija nav publiskota
A30: Par kapitālsabiedrībām - Rēzekne - pilsēta Latgales sirdī (rezekne.lv) | B30: =SUM(H30,J30,L30,N30,P30,R30,T30) -> 5 | C30: =B30/6 -> 0.83333333 | D30: Rēzeknes valstspilsētas pašvaldība | E30: 46224 | F30: - | G30: ir | H30: =VLOOKUP(G30,Saraksts!$H$2:$I$5,2,0) -> 1 | I30: ir | J30: =VLOOKUP(I30,Saraksts!$H$2:$I$5,2,0) -> 1 | K30: ir | L30: =VLOOKUP(K30,Saraksts!$H$2:$I$5,2,0) -> 1 | M30: nav attiecināms | N30: =VLOOKUP(M30,Saraksts!$H$2:$I$5,2,0) -> - | O30: ir | P30: =VLOOKUP(O30,Saraksts!$H$2:$I$5,2,0) -> 1 | Q30: ir | R30: =VLOOKUP(Q30,Saraksts!$H$2:$I$5,2,0) -> 1 | S30: nav | T30: =VLOOKUP(S30,Saraksts!$H$2:$I$5,2,0) -> 0 | U30: ziņa ir | V30: =VLOOKUP(U30,Saraksts!$H$8:$I$9,2,0) -> √ | W30: ziņu nav | X30: =VLOOKUP(W30,Saraksts!$H$8:$I$9,2,0) -> - | Y30: Informācija nav publiskota | Z30: Informācija daļēja. Apkopotā informācija pieejama tikai par 2022.gadu
A31: Kapitālsabiedrības | Rīgas valstspilsētas pašvaldība (riga.lv) | B31: =SUM(H31,J31,L31,N31,P31,R31,T31) -> 6 | C31: =B31/7 -> 0.85714286 | D31: Rīgas valstspilsētas pašvaldība | E31: 46224 | F31: Atjaunināts: 16.07.2026. | G31: ir | H31: =VLOOKUP(G31,Saraksts!$H$2:$I$5,2,0) -> 1 | I31: ir | J31: =VLOOKUP(I31,Saraksts!$H$2:$I$5,2,0) -> 1 | K31: ir | L31: =VLOOKUP(K31,Saraksts!$H$2:$I$5,2,0) -> 1 | M31: ir | N31: =VLOOKUP(M31,Saraksts!$H$2:$I$5,2,0) -> 1 | O31: ir | P31: =VLOOKUP(O31,Saraksts!$H$2:$I$5,2,0) -> 1 | Q31: ir | R31: =VLOOKUP(Q31,Saraksts!$H$2:$I$5,2,0) -> 1 | S31: nav | T31: =VLOOKUP(S31,Saraksts!$H$2:$I$5,2,0) -> 0 | U31: ziņa ir | V31: =VLOOKUP(U31,Saraksts!$H$8:$I$9,2,0) -> √ | W31: ziņa ir | X31: =VLOOKUP(W31,Saraksts!$H$8:$I$9,2,0) -> √ | Y31: Informācija ir
A32: Kapitālsabiedrības un pašvaldības aģentūras | Ropažu novada pašvaldība (ropazi.lv) | B32: =SUM(H32,J32,L32,N32,P32,R32,T32) -> 4 | C32: =B32/7 -> 0.57142857 | D32: Ropažu novada pašvaldība | E32: 46224 | F32: Atjaunināts: 30.09.2025. | G32: nav | H32: =VLOOKUP(G32,Saraksts!$H$2:$I$5,2,0) -> 0 | I32: daļēji | J32: =VLOOKUP(I32,Saraksts!$H$2:$I$5,2,0) -> 0.5 | K32: ir | L32: =VLOOKUP(K32,Saraksts!$H$2:$I$5,2,0) -> 1 | M32: ir | N32: =VLOOKUP(M32,Saraksts!$H$2:$I$5,2,0) -> 1 | O32: ir | P32: =VLOOKUP(O32,Saraksts!$H$2:$I$5,2,0) -> 1 | Q32: daļēji | R32: =VLOOKUP(Q32,Saraksts!$H$2:$I$5,2,0) -> 0.5 | S32: nav | T32: =VLOOKUP(S32,Saraksts!$H$2:$I$5,2,0) -> 0 | U32: ziņu nav | V32: =VLOOKUP(U32,Saraksts!$H$8:$I$9,2,0) -> - | W32: ziņu nav | X32: =VLOOKUP(W32,Saraksts!$H$8:$I$9,2,0) -> - | Y32: Informācija nav publiskota | Z32: Informācija tikai no uzņēmuma mājas lapas
A33: Sākumlapa | Salaspils | B33: =SUM(H33,J33,L33,N33,P33,R33,T33) -> 3.5 | C33: =B33/6 -> 0.58333333 | D33: Salaspils novada pašvaldība | E33: 46224 | F33: - | G33: nav | H33: =VLOOKUP(G33,Saraksts!$H$2:$I$5,2,0) -> 0 | I33: daļēji | J33: =VLOOKUP(I33,Saraksts!$H$2:$I$5,2,0) -> 0.5 | K33: ir | L33: =VLOOKUP(K33,Saraksts!$H$2:$I$5,2,0) -> 1 | M33: nav attiecināms | N33: =VLOOKUP(M33,Saraksts!$H$2:$I$5,2,0) -> - | O33: daļēji | P33: =VLOOKUP(O33,Saraksts!$H$2:$I$5,2,0) -> 0.5 | Q33: daļēji | R33: =VLOOKUP(Q33,Saraksts!$H$2:$I$5,2,0) -> 0.5 | S33: ir | T33: =VLOOKUP(S33,Saraksts!$H$2:$I$5,2,0) -> 1 | U33: ziņu nav | V33: =VLOOKUP(U33,Saraksts!$H$8:$I$9,2,0) -> - | W33: ziņa ir | X33: =VLOOKUP(W33,Saraksts!$H$8:$I$9,2,0) -> √ | Y33: Informācija nav publiskota | Z33: Informācijas apkopojums tikai pie Kontaktiem un ziņojums par 2020.gadu, pie informācijas par pašvaldības īpašumiem ziņas par 2023.gadu
A34: Kapitālsabiedrības - Saldus novada pašvaldība mājas lapa | B34: =SUM(H34,J34,L34,N34,P34,R34,T34) -> 4.5 | C34: =B34/6 -> 0.75 | D34: Saldus novada pašvaldība | E34: 46224 | F34: - | G34: daļēji | H34: =VLOOKUP(G34,Saraksts!$H$2:$I$5,2,0) -> 0.5 | I34: ir | J34: =VLOOKUP(I34,Saraksts!$H$2:$I$5,2,0) -> 1 | K34: ir | L34: =VLOOKUP(K34,Saraksts!$H$2:$I$5,2,0) -> 1 | M34: nav attiecināms | N34: =VLOOKUP(M34,Saraksts!$H$2:$I$5,2,0) -> - | O34: ir | P34: =VLOOKUP(O34,Saraksts!$H$2:$I$5,2,0) -> 1 | Q34: ir | R34: =VLOOKUP(Q34,Saraksts!$H$2:$I$5,2,0) -> 1 | S34: nav | T34: =VLOOKUP(S34,Saraksts!$H$2:$I$5,2,0) -> 0 | U34: ziņu nav | V34: =VLOOKUP(U34,Saraksts!$H$8:$I$9,2,0) -> - | W34: ziņu nav | X34: =VLOOKUP(W34,Saraksts!$H$8:$I$9,2,0) -> - | Y34: Informācija ir | Z34: lapa https://www.saldusslimnica.lv/kapitalsabiedriba/publiskojama-informacija nedarbojas jaunā adrese https://www.saldusslimnica.lv/publiskojama-informacija
A35: SIA “ZAAO” | Saulkrastu novada pašvaldības mājas lapa (saulkrasti.lv) | B35: =SUM(H35,J35,L35,N35,P35,R35,T35) -> 3 | C35: =B35/6 -> 0.5 | D35: Saulkrastu novada pašvaldība | E35: 46224 | F35: - | G35: nav | H35: =VLOOKUP(G35,Saraksts!$H$2:$I$5,2,0) -> 0 | I35: daļēji | J35: =VLOOKUP(I35,Saraksts!$H$2:$I$5,2,0) -> 0.5 | K35: ir | L35: =VLOOKUP(K35,Saraksts!$H$2:$I$5,2,0) -> 1 | M35: nav attiecināms | N35: =VLOOKUP(M35,Saraksts!$H$2:$I$5,2,0) -> - | O35: ir | P35: =VLOOKUP(O35,Saraksts!$H$2:$I$5,2,0) -> 1 | Q35: daļēji | R35: =VLOOKUP(Q35,Saraksts!$H$2:$I$5,2,0) -> 0.5 | S35: nav | T35: =VLOOKUP(S35,Saraksts!$H$2:$I$5,2,0) -> 0 | U35: ziņu nav | V35: =VLOOKUP(U35,Saraksts!$H$8:$I$9,2,0) -> - | W35: ziņu nav | X35: =VLOOKUP(W35,Saraksts!$H$8:$I$9,2,0) -> - | Y35: Informācija nav publiskota | Z35: Informācija nav atjaunota kopš 2022. gada
A36: Sigulda.lv - Kapitālsabiedrības | B36: =SUM(H36,J36,L36,N36,P36,R36,T36) -> 4 | C36: =B36/6 -> 0.66666667 | D36: Siguldas novada pašvaldība | E36: 46224 | F36: Atjaunināts 06 maijs 2026, informācija par 2023.gadu | G36: nav | H36: =VLOOKUP(G36,Saraksts!$H$2:$I$5,2,0) -> 0 | I36: ir | J36: =VLOOKUP(I36,Saraksts!$H$2:$I$5,2,0) -> 1 | K36: ir | L36: =VLOOKUP(K36,Saraksts!$H$2:$I$5,2,0) -> 1 | M36: nav attiecināms | N36: =VLOOKUP(M36,Saraksts!$H$2:$I$5,2,0) -> - | O36: ir | P36: =VLOOKUP(O36,Saraksts!$H$2:$I$5,2,0) -> 1 | Q36: ir | R36: =VLOOKUP(Q36,Saraksts!$H$2:$I$5,2,0) -> 1 | S36: nav | T36: =VLOOKUP(S36,Saraksts!$H$2:$I$5,2,0) -> 0 | U36: ziņu nav | V36: =VLOOKUP(U36,Saraksts!$H$8:$I$9,2,0) -> - | W36: ziņu nav | X36: =VLOOKUP(W36,Saraksts!$H$8:$I$9,2,0) -> - | Y36: Informācija ir
A37: Kapitālsabiedrības | Smiltenes novada pašvaldība (smiltenesnovads.lv) | B37: =SUM(H37,J37,L37,N37,P37,R37,T37) -> 1.5 | C37: =B37/6 -> 0.25 | D37: Smiltenes novada pašvaldība | E37: 46224 | F37: - | G37: nav | H37: =VLOOKUP(G37,Saraksts!$H$2:$I$5,2,0) -> 0 | I37: daļēji | J37: =VLOOKUP(I37,Saraksts!$H$2:$I$5,2,0) -> 0.5 | K37: daļēji | L37: =VLOOKUP(K37,Saraksts!$H$2:$I$5,2,0) -> 0.5 | M37: nav attiecināms | N37: =VLOOKUP(M37,Saraksts!$H$2:$I$5,2,0) -> - | O37: nav | P37: =VLOOKUP(O37,Saraksts!$H$2:$I$5,2,0) -> 0 | Q37: daļēji | R37: =VLOOKUP(Q37,Saraksts!$H$2:$I$5,2,0) -> 0.5 | S37: nav | T37: =VLOOKUP(S37,Saraksts!$H$2:$I$5,2,0) -> 0 | U37: ziņu nav | V37: =VLOOKUP(U37,Saraksts!$H$8:$I$9,2,0) -> - | W37: ziņu nav | X37: =VLOOKUP(W37,Saraksts!$H$8:$I$9,2,0) -> - | Y37: Informācija nav publiskota
A38: Kapitālsabiedrības | Talsi (talsunovads.lv) | B38: =SUM(H38,J38,L38,N38,P38,R38,T38) -> 5 | C38: =B38/6 -> 0.83333333 | D38: Talsu novada pašvaldība | E38: 46224 | F38: Publicēts: 11.09.2025. par 2024.gadu | G38: daļēji | H38: =VLOOKUP(G38,Saraksts!$H$2:$I$5,2,0) -> 0.5 | I38: ir | J38: =VLOOKUP(I38,Saraksts!$H$2:$I$5,2,0) -> 1 | K38: ir | L38: =VLOOKUP(K38,Saraksts!$H$2:$I$5,2,0) -> 1 | M38: nav attiecināms | N38: =VLOOKUP(M38,Saraksts!$H$2:$I$5,2,0) -> - | O38: ir | P38: =VLOOKUP(O38,Saraksts!$H$2:$I$5,2,0) -> 1 | Q38: ir | R38: =VLOOKUP(Q38,Saraksts!$H$2:$I$5,2,0) -> 1 | S38: daļēji | T38: =VLOOKUP(S38,Saraksts!$H$2:$I$5,2,0) -> 0.5 | U38: ziņu nav | V38: =VLOOKUP(U38,Saraksts!$H$8:$I$9,2,0) -> - | W38: ziņu nav | X38: =VLOOKUP(W38,Saraksts!$H$8:$I$9,2,0) -> - | Y38: Informācija ir
A39: Kapitālsabiedrības | Tukuma novada dome (tukums.lv) | B39: =SUM(H39,J39,L39,N39,P39,R39,T39) -> 6 | C39: =B39/6 -> 1 | D39: Tukuma novada pašvaldība | E39: 46224 | F39: Atjaunināts: 15.05.2026. | G39: ir | H39: =VLOOKUP(G39,Saraksts!$H$2:$I$5,2,0) -> 1 | I39: ir | J39: =VLOOKUP(I39,Saraksts!$H$2:$I$5,2,0) -> 1 | K39: ir | L39: =VLOOKUP(K39,Saraksts!$H$2:$I$5,2,0) -> 1 | M39: nav attiecināms | N39: =VLOOKUP(M39,Saraksts!$H$2:$I$5,2,0) -> - | O39: ir | P39: =VLOOKUP(O39,Saraksts!$H$2:$I$5,2,0) -> 1 | Q39: ir | R39: =VLOOKUP(Q39,Saraksts!$H$2:$I$5,2,0) -> 1 | S39: ir | T39: =VLOOKUP(S39,Saraksts!$H$2:$I$5,2,0) -> 1 | U39: ziņa ir | V39: =VLOOKUP(U39,Saraksts!$H$8:$I$9,2,0) -> √ | W39: ziņa ir | X39: =VLOOKUP(W39,Saraksts!$H$8:$I$9,2,0) -> √ | Y39: Informācija ir
A40: Kapitālsabiedrības | Valkas novada pašvaldība | B40: =SUM(H40,J40,L40,N40,P40,R40,T40) -> 1 | C40: =B40/6 -> 0.16666667 | D40: Valkas novada pašvaldība | E40: 46224 | F40: - | G40: nav | H40: =VLOOKUP(G40,Saraksts!$H$2:$I$5,2,0) -> 0 | I40: daļēji | J40: =VLOOKUP(I40,Saraksts!$H$2:$I$5,2,0) -> 0.5 | K40: nav | L40: =VLOOKUP(K40,Saraksts!$H$2:$I$5,2,0) -> 0 | M40: nav attiecināms | N40: =VLOOKUP(M40,Saraksts!$H$2:$I$5,2,0) -> - | O40: nav | P40: =VLOOKUP(O40,Saraksts!$H$2:$I$5,2,0) -> 0 | Q40: daļēji | R40: =VLOOKUP(Q40,Saraksts!$H$2:$I$5,2,0) -> 0.5 | S40: nav | T40: =VLOOKUP(S40,Saraksts!$H$2:$I$5,2,0) -> 0 | U40: ziņu nav | V40: =VLOOKUP(U40,Saraksts!$H$8:$I$9,2,0) -> - | W40: ziņu nav | X40: =VLOOKUP(W40,Saraksts!$H$8:$I$9,2,0) -> - | Y40: Informācija nav publiskota | Z40: Nepieteikama informācija
A41: Kapitālsabiedrības - Valmieras novads | B41: =SUM(H41,J41,L41,N41,P41,R41,T41) -> 5 | C41: =B41/6 -> 0.83333333 | D41: Valmieras novada pašvaldība | E41: 46224 | F41: - | G41: daļēji | H41: =VLOOKUP(G41,Saraksts!$H$2:$I$5,2,0) -> 0.5 | I41: ir | J41: =VLOOKUP(I41,Saraksts!$H$2:$I$5,2,0) -> 1 | K41: ir | L41: =VLOOKUP(K41,Saraksts!$H$2:$I$5,2,0) -> 1 | M41: nav attiecināms | N41: =VLOOKUP(M41,Saraksts!$H$2:$I$5,2,0) -> - | O41: ir | P41: =VLOOKUP(O41,Saraksts!$H$2:$I$5,2,0) -> 1 | Q41: ir | R41: =VLOOKUP(Q41,Saraksts!$H$2:$I$5,2,0) -> 1 | S41: daļēji | T41: =VLOOKUP(S41,Saraksts!$H$2:$I$5,2,0) -> 0.5 | U41: ziņa ir | V41: =VLOOKUP(U41,Saraksts!$H$8:$I$9,2,0) -> √ | W41: ziņa ir | X41: =VLOOKUP(W41,Saraksts!$H$8:$I$9,2,0) -> √ | Y41: Informācija ir
A42: Varaklani.lv | B42: =SUM(H42,J42,L42,N42,P42,R42,T42) -> 1.5 | C42: =B42/6 -> 0.25 | D42: Varakļānu novada pašvaldība | E42: 46224 | F42: mājas lapaa uzrādās nedroša | G42: daļēji | H42: =VLOOKUP(G42,Saraksts!$H$2:$I$5,2,0) -> 0.5 | I42: daļēji | J42: =VLOOKUP(I42,Saraksts!$H$2:$I$5,2,0) -> 0.5 | K42: nav | L42: =VLOOKUP(K42,Saraksts!$H$2:$I$5,2,0) -> 0 | M42: nav attiecināms | N42: =VLOOKUP(M42,Saraksts!$H$2:$I$5,2,0) -> - | O42: nav | P42: =VLOOKUP(O42,Saraksts!$H$2:$I$5,2,0) -> 0 | Q42: nav | R42: =VLOOKUP(Q42,Saraksts!$H$2:$I$5,2,0) -> 0 | S42: daļēji | T42: =VLOOKUP(S42,Saraksts!$H$2:$I$5,2,0) -> 0.5 | U42: ziņu nav | V42: =VLOOKUP(U42,Saraksts!$H$8:$I$9,2,0) -> - | W42: ziņu nav | X42: =VLOOKUP(W42,Saraksts!$H$8:$I$9,2,0) -> - | Y42: Informācija nav publiskota | Z42: dati jāmeklē no pašvaldības gada pārskata
A43: Ventspils novads | B43: =SUM(H43,J43,L43,N43,P43,R43,T43) -> 5 | C43: =B43/6 -> 0.83333333 | D43: Ventspils novada pašvaldība | E43: 46224 | F43: - | G43: daļēji | H43: =VLOOKUP(G43,Saraksts!$H$2:$I$5,2,0) -> 0.5 | I43: ir | J43: =VLOOKUP(I43,Saraksts!$H$2:$I$5,2,0) -> 1 | K43: ir | L43: =VLOOKUP(K43,Saraksts!$H$2:$I$5,2,0) -> 1 | M43: nav attiecināms | N43: =VLOOKUP(M43,Saraksts!$H$2:$I$5,2,0) -> - | O43: ir | P43: =VLOOKUP(O43,Saraksts!$H$2:$I$5,2,0) -> 1 | Q43: daļēji | R43: =VLOOKUP(Q43,Saraksts!$H$2:$I$5,2,0) -> 0.5 | S43: ir | T43: =VLOOKUP(S43,Saraksts!$H$2:$I$5,2,0) -> 1 | U43: ziņu nav | V43: =VLOOKUP(U43,Saraksts!$H$8:$I$9,2,0) -> - | W43: ziņu nav | X43: =VLOOKUP(W43,Saraksts!$H$8:$I$9,2,0) -> - | Y43: Informācija nav publiskota
A44: Kapitālsabiedrības - Ventspils | B44: =SUM(H44,J44,L44,N44,P44,R44,T44) -> 5 | C44: =B44/7 -> 0.71428571 | D44: Ventspils valstspilsētas pašvaldība | E44: 46224 | F44: - | G44: nav | H44: =VLOOKUP(G44,Saraksts!$H$2:$I$5,2,0) -> 0 | I44: ir | J44: =VLOOKUP(I44,Saraksts!$H$2:$I$5,2,0) -> 1 | K44: ir | L44: =VLOOKUP(K44,Saraksts!$H$2:$I$5,2,0) -> 1 | M44: ir | N44: =VLOOKUP(M44,Saraksts!$H$2:$I$5,2,0) -> 1 | O44: nav | P44: =VLOOKUP(O44,Saraksts!$H$2:$I$5,2,0) -> 0 | Q44: ir | R44: =VLOOKUP(Q44,Saraksts!$H$2:$I$5,2,0) -> 1 | S44: ir | T44: =VLOOKUP(S44,Saraksts!$H$2:$I$5,2,0) -> 1 | U44: ziņu nav | V44: =VLOOKUP(U44,Saraksts!$H$8:$I$9,2,0) -> - | W44: ziņu nav | X44: =VLOOKUP(W44,Saraksts!$H$8:$I$9,2,0) -> - | Y44: Informācija nav publiskota

Sheet Lielās-kapsab.
J1: Lielas kapitālsabiedrības | X1: Publiskas personas kapitāla daļu un kapitālsabiedrību pārvaldības likuma 58. pants "Informācijas par kapitālsabiedrību publiskošana" | Y1: Informācijas publiskošanas vadlīnijas valsts kapitālsabiedrībām un kapitāla daļu turētājiem
A2: Punkti | B2: Procenti | C2: Pārbaud. datums | D2: tīmekļvietne | E2: Reģ. Nr. | F2: Kapitālsabiedrības nosaukums | G2: 1. vispārējie stratēģiskie mērķi | H2: 2. ziņas par kapitālsabiedrības darbības un komercdarbības veidiem | I2: 3. finanšu mērķu un nefinanšu mērķu īstenošanas rezultāti vismaz par pēdējiem 5 gadiem | J2: 4. izstrādātie pārskati vismaz par pēdējiem 5 gadiem | K2: 5. veiktās iemaksas valsts vai pašvaldības budžetā (tai skaitā dividendes, atskaitījumi, nodokļu maksājumi) vismaz par pēdējiem 5 gadiem | L2: 6. informācija par saņemto valsts vai pašvaldības budžeta finansējumu un tā izlietojumu (ja attiecināms) vismaz par pēdējiem 5 gadiem | M2: 7. informācija par īpašuma struktūru (tai skaitā līdzdalību citās sabiedrībās) | N2: 8. informācija par organizatorisko struktūru | O2: 9. ziedošanas (dāvināšanas) stratēģija un ziedošanas (dāvināšanas) kārtība | P2: 10. informācija par katra saņemtā un veiktā ziedojuma (dāvinājuma) summu un saņēmējiem vismaz par pēdējiem 5 gadiem | Q2: 11. informācija par iepirkumiem vismaz par pēdējiem 5 gadiem | R2: 12. statūti | S2: 13. valdes, padomes (ja tāda ir izveidota) nolikums vai cits tam pielīdzināms dokuments, kas regulē tās darbību | T2: 14. informācija par padomes (ja tāda ir izveidota) un valdes locekļiem (par katru atsevišķi): profesionālā darba pieredze, izglītība, amati citās kapitālsabiedrībās, pilnvaru termiņi, kā arī padomes locekļa atbilstību neatkarīga padomes locekļa kritērijiem | U2: 15. informācija par visām paziņotajām kapitālsabiedrības dalībnieku (akcionāru) sapulcēm, tai skaitā par darba kārtību un lēmumiem | V2: 16. atalgojuma politikas principi un informāciju par katra valdes un padomes locekļa atalgojumu | W2: 17. paziņojumu par korporatīvo pārvaldību par 2025. finanšu gadu | X2: 18. ilgtspējas ziņojums | Y2: Piezīmes | Z2: 1. vispārējie stratēģiskie mērķi | AA2: 2. ziņas par kapitālsabiedrības darbības un komercdarbības veidiem | AB2: 3. finanšu mērķu un nefinanšu mērķu īstenošanas rezultāti vismaz par pēdējiem 5 gadiem | AC2: 4. izstrādātie pārskati vismaz par pēdējiem 5 gadiem | AD2: 5. veiktās iemaksas valsts vai pašvaldības budžetā (tai skaitā dividendes, atskaitījumi, nodokļu maksājumi) vismaz par pēdējiem 5 gadiem | AE2: 6. informācija par saņemto valsts vai pašvaldības budžeta finansējumu un tā izlietojumu (ja attiecināms) vismaz par pēdējiem 5 gadiem | AF2: 7. informācija par īpašuma struktūru (tai skaitā līdzdalību citās sabiedrībās) | AG2: 8. informācija par organizatorisko struktūru | AH2: 9. ziedošanas (dāvināšanas) stratēģija un ziedošanas (dāvināšanas) kārtība | AI2: 10. informācija par katra saņemtā un veiktā ziedojuma (dāvinājuma) summu un saņēmējiem vismaz par pēdējiem 5 gadiem | AJ2: 11. informācija par iepirkumiem vismaz par pēdējiem 5 gadiem | AK2: 12. statūti | AL2: 13. valdes, padomes (ja tāda ir izveidota) nolikums vai cits tam pielīdzināms dokuments, kas regulē tās darbību | AM2: 14. informācija par padomes (ja tāda ir izveidota) un valdes locekļiem (par katru atsevišķi): profesionālā darba pieredze, izglītība, amati citās kapitālsabiedrībās, pilnvaru termiņi, kā arī padomes locekļa atbilstību neatkarīga padomes locekļa kritērijiem | AN2: 15. informācija par visām paziņotajām kapitālsabiedrības dalībnieku (akcionāru) sapulcēm, tai skaitā par darba kārtību un lēmumiem | AO2: 16. atalgojuma politikas principi un informāciju par katra valdes un padomes locekļa atalgojumu | AP2: Piezīmes | AQ2: 1.1. informācija par paredzamiem riska faktoriem | AR2: 1.2. informācija par iekšējās kontroles un riska pārvaldības sistēmas galvenajiem elementiem, kurus piemēro finanšu pārskatu sagatavošanā | AS2: 1.3. pārvaldes institūciju, kā arī to komiteju sastāvs un darbības apraksts | AT2: 1.4. aprakstu par daudzpusības politikas mērķiem, īstenošanas pasākumiem un rezultātiem pārskata gadā (attiecināms tikai, ja kap.sab. īsteno politiku attiecībā uz kapitālsab. pārvaldes institūciju loc. sastāva dažādību) | AU2: 1.5. informācija par padomes komitejām un/vai revīzijas komiteju, tai skaitā nolikumu, kā arī inform. par komitejas locekļiem (CV, pilnvaru termiņiem) (attiecināms tikai, ja tādas komistejas ir izveidotas) | AV2: 1.6. informācija par netipiskiem vai nozīmīga apjoma darījumiem ar saistītajām pusēm Finanšu instrumentu tirgus likuma 59.1 panta izpratnē vismaz par pēdējiem pieciem gadiem | AW2: 1.7. būtiskākās politikas, kurās definēti kapitālsabiedrības darbības principi attiecībā uz risku pārvaldību, interešu konflikta novērš., korupcijas apkarošanu, korp.pārv. u.c. jautājumiem | AX2: 1.8. paziņojumu par korporatīvo pārvaldību par 2022. finanšu gadu | AY2: 1.9. nefinanšu paziņojumi vai konsolidētie nefinanšu paziņojumi par 2022. finanšu gadu
A3: 18 | B3: =A3/18*100 -> 100 | C3: 46225 | D3: www.rigasudens.lv | E3: 40103023035 | F3: SIA "Rīgas ūdens" | G3: ir | H3: ir | I3: ir | J3: ir | K3: ir | L3: ir | M3: ir | N3: ir | O3: ir | P3: ir | Q3: ir | R3: ir | S3: ir | T3: ir | U3: ir | V3: ir | W3: ir | X3: ir | Y3: Vērtējuma piezīme: 5.ir (par divid. nav inform.) | Z3: ir | AA3: ir (galvenās darbības jomas; komercdarb.veidi no statūtiem) | AB3: ir | AC3: ir | AD3: ir (par divid. nav inform.) | AE3: ir (publ. atsevišķā tabulā par 5 gadiem) | AF3: ir (publ. pie Pārvaldības principi un atsevišķi līdzd. citās sab.) | AG3: ir | AH3: ir (ziedošanas kārtība vispārēja - atsauces uz normatīvo regulējumu) | AI3: ir (informācija tikai par vienu viekto ziedojumu 2022.g.; nav saņemto ziedojumu) | AJ3: ir | AK3: ir | AL3: ir | AM3: ir | AN3: ir | AO3: daļēji (atalg. Politika; padomes atalg, norādīts atsevišķi pie katra loc., bet katra valdes loc. atalg. nav) | AQ3: ir (no gada pārsk.) | AR3: ir (no gada pārsk.) | AS3: ir (publ. pie Pārvaldības principi, komitejas nav izveidotas) | AT3: nav inf. | AU3: nav attiecināms (no korpo. paziņojuma - komitejas nav izveidotas) | AV3: nav inf. | AW3: ir (Iekšējās kontroles politika; Risku pārvaldības politika; Interešu konflikta un korupcijas novēršanas politika; Korporatīvās pārvaldības politika, u.c.) | AX3: ir | AY3: ir (Ilgtspējas pārskats 2021.g., norād. - pārskats ir nefinanšu ziņojums)
A4: 18 | B4: =A4/18*100 -> 100 | C4: 46225 | D4: www.rigasmezi.lv | E4: 40003982628 | F4: SIA "Rīgas meži" | G4: ir | H4: ir | I4: ir | J4: ir | K4: ir | L4: ir | M4: ir | N4: ir | O4: ir | P4: ir | Q4: ir | R4: ir | S4: ir | T4: ir | U4: ir | V4: ir | W4: ir | X4: ir | Y4: Vērtējuma piezīmes: 1. ir (papildu no vidēja termiņa stratēģijas 2019. – 2025.g.); 2.ir (no statūtiem); 6.ir ("Publiskojamā informācija" -> "Finanšu informācija" -> "Dotācijas"); 14. ir (valdes, padome; attiecīgi pie katra norādīts atalgojums) | Z4: ir (papildu no vidēja termiņa stratēģijas 2019. – 2025.g.) | AA4: ir (no statūtiem) | AB4: daļēji (sadaļā "Vidēja termiņa darbības stratēģija" pie finanšu un nefinanšu mērķu īstenošanas rezultātiem ir pievienota inform. 2015.-2016.g.; atsevišķi publiskoti "Budžeta faktiskā izpilde pēc deleģēšanas līgumiem" (no 2021.g.); atsevišķi pievienoti Rīgas Domes lēmumi par noteiktajiem finanšu mērķiem un specifiskajiem nefinanšu mērķiem) | AC4: ir (2021. un 2022. gada pārskatiem nav pievienots revidenta ziņojums) | AD4: ir (konkrēti nav norādīts kurā budžetā veiktas iemaksas, nav inform. par divid.) | AE4: ir ("Publiskojamā informācija" -> "Finanšu informācija" -> "Dotācijas") | AF4: ir | AG4: ir | AH4: ir | AI4: ir (veikts viens ziedojums 2022.g.) | AJ4: ir (aktuāliem iepirkumiem ir precīza saite EIS) | AK4: ir | AL4: ir (valdes reglaments, padomes reglaments) | AM4: ir (valdes, padome; attiecīgi pie katra norādīts atalgojums) | AN4: ir | AO4: ir (vadības atalgojums norādīts CV attiecīgi pie katra valdes/padomes loc.) | AQ4: ir (no gada pārsk.) | AR4: ir (no gada pārsk.) | AS4: nav | AT4: nav inf. | AU4: nav attiecināms (no korp. paziņojuma - komitejas nav izveidotas, jo 3 padomes locekļi) | AV4: nav inf. | AW4: ir | AX4: ir (no gada pārsk. 57.pp) | AY4: nav attiecin., jo darb.sk. 83
A5: 17.5 | B5: =A5/18*100 -> 97.222222 | C5: 46224 | D5: www.liepajasslimnica.lv | E5: 42103041306 | F5: SIA "LIEPĀJAS REĢIONĀLĀ SLIMNĪCA" | G5: ir | H5: ir | I5: ir | J5: ir | K5: ir | L5: ir | M5: ir | N5: ir | O5: ir | P5: ir | Q5: ir | R5: ir | S5: ir | T5: ir | U5: ir | V5: daļēji | W5: ir | X5: ir | Y5: Vērtējuma piezīme: 16.daļēji (par valdes/padomes locekļa atlīdzības politiku nav informācija) | Z5: ir | AA5: ir | AB5: daļēji (trūkst nefinan. mērķu īsten. rezultāti) | AC5: ir | AD5: ir (Veiktās iemaksas valsts vai pašvaldības budžetā, norādīta inform. arī par divid.) | AE5: daļēji (dažiem pārskata gadiem trūkst informācija par izlietojumu) | AF5: ir | AG5: ir | AH5: ir | AI5: ir (informācija par saņemtajiem ziedojumiem) | AJ5: ir (pievienota arī precīza saite EIS) | AK5: ir | AL5: ir (Valdes un padomes nolikumi) | AM5: ir (pilnvaru termiņi pievienoti CV) | AN5: ir | AO5: ir (Atalgojuma politikas principi un informācija par valdes un padomes locekļu atalgojumu) | AP5: Publicēta atskaite "Pasākumi korupcijas riska novēršanai 2022.gadā" | AQ5: ir (no gada pārsk.) | AR5: ir (no gada pārsk.) | AS5: nav | AT5: nav inf. | AU5: nav inf. | AV5: nav inf. | AW5: ir (Iekšējā kontroles sistēma korupcijas un interešu konflikta risku novēršanai) | AX5: ir | AY5: ir
A6: 17.5 | B6: =A6/18*100 -> 97.222222 | C6: 46224 | D6: https://www.rigassatiksme.lv | E6: 40003619950 | F6: Rīgas pašvaldības SIA "Rīgas satiksme" | G6: ir | H6: ir | I6: ir | J6: ir | K6: ir | L6: ir | M6: ir | N6: ir | O6: ir | P6: ir | Q6: ir | R6: ir | S6: ir | T6: ir | U6: ir | V6: daļēji | W6: ir | X6: ir | Y6: Vērtējuma piezīme: 16.daļēji (par katra valdes/padomes locekļa atlīdzību inform. ir , bet atalgojuma politikas valdei un padomei nav) | Z6: ir | AA6: ir (no statūtiem) | AB6: ir (līdz 2020.g. rezultatīvo rādītāju izpilde, 2021. un 2022. g. finanšu un nefinanšu mērķu izpilde) | AC6: ir (2022.g. nav pievienots revidenta ziņ.) | AD6: ir (kopējā nodokļu summa par katru gadu atsevišķi un papildus no gada pārsk.) | AE6: ir | AF6: ir | AG6: ir | AH6: ir | AI6: ir | AJ6: ir | AK6: ir | AL6: ir | AM6: ir | AN6: ir | AO6: daļēji (par katra valdes/padomes locekļa atlīdzību inform. ir vispārīga no atalgojuma politikas) | AQ6: ir (no gada pārsk.) | AR6: ir (no gada pārsk.) | AS6: ir (Ētikas komisijas regl. un Ētikas kodekss) | AT6: daļēji (no Korporatīvās pārvaldības kodeksa "Padomes un Valdes locekļu dažādība tiek īstenota vismaz attiecībā uz šādiem aspektiem: izglītību un profesionālo pieredzi; dzimumu; vecumu.") | AU6: nav attiecināms (no korpo. paziņojuma - komitejas nav izveidotas) | AV6: daļēji (Sadarbības ar darījumu partneriem pamatprincipi) | AW6: ir (Risku pārvaldības politika; Korporatīvās pārvaldības kodekss; Korupcijas un interešu konflikta novēršanas politika, u.c.) | AX6: ir | AY6: ir (Ilgtspējas pārskats (nefinanšu paziņojums) 2022.g.)
A7: 17.5 | B7: =A7/18*100 -> 97.222222 | C7: 46225 | D7: www.rnparvaldnieks.lv | E7: 40103362321 | F7: SIA "Rīgas namu pārvaldnieks" | G7: ir | H7: ir | I7: ir | J7: ir | K7: ir | L7: ir | M7: ir | N7: ir | O7: ir | P7: ir | Q7: ir | R7: ir | S7: ir | T7: ir | U7: ir | V7: daļēji | W7: ir | X7: ir | Y7: Vērtējuma piezīme: 16.daļēji (par valdes/padomes locekļa atlīdzības politiku nav informācija) | Z7: ir | AA7: ir | AB7: ir | AC7: ir | AD7: ir | AE7: ir | AF7: ir | AG7: ir | AH7: ir (pastāv ierobežojumi dāvinājumu (ziedojumu) veikšanai) | AI7: ir (ziedojumi nav veikti un nav saņemti) | AJ7: ir (precīza saite uz EIS) | AK7: ir | AL7: ir | AM7: daļēji (trūkst valdes loc. CV., pilnv. term. un padomei atzīme par neatkarīgiem padomes loc.) | AN7: ir (lēmumi ir saīsināti) | AO7: ir | AQ7: ir | AR7: ir (no gada pārsk.) | AS7: ir (publ. Ētikas komisijas nolikums) | AT7: nav inf. | AU7: nav attiecināms (no korpo. paziņojuma - komitejas nav izveidotas) | AV7: nav inf. | AW7: ir (Korp.pārvald. kodekss; Korp.sociālās atbild. un ilgtsp. pol.; Interešu konflikta un korupc. risku novērš. pol., u.c.) | AX7: ir | AY7: ir (no gada pārsk. un Ilgtspējas pārsk.)
A8: 17 | B8: =A8/18*100 -> 94.444444 | C8: 46225 | D8: www.rigasnami.lv | E8: 40003109638 | F8: SIA "Rīgas nami" | G8: ir | H8: ir | I8: ir | J8: ir | K8: ir | L8: ir | M8: ir | N8: ir | O8: ir | P8: ir | Q8: ir | R8: ir | S8: ir | T8: ir | U8: ir | V8: ir | W8: ir | X8: nav | Y8: Vērtējuma piezīme: 2. ir (no statūtiem); 5. ir (par divid. nav inform); 6.ir (no gada pārsk. Un informācija par deleģētēšanas pakalpojumu līgumu izpildi), 16.ir (valdes un padomes atalgojuma politika https://www.rigasnami.lv/uploads/files/14.%20Valdes%20un%20padomes%20atalgojuma%20politika_2026.pdf), 18. nav (par 2024. gadu bija)
A9: 15.5 | B9: =A9/18*100 -> 86.111111 | C9: 46225 | D9: www.daugavpils.udens.lv | E9: 41503002432 | F9: SIA "Daugavpils ūdens" | G9: ir | H9: ir | I9: ir | J9: ir | K9: ir | L9: ir | M9: ir | N9: ir | O9: ir | P9: ir | Q9: ir | R9: ir | S9: ir | T9: ir | U9: ir | V9: daļēji | W9: nav | X9: nav | Y9: Vērtējuma piezīmes: 2. ir (no statūtiem); 16. daļēji (nav publiskotas izmaksātās atlīdzības, atalgojuma politika valdei un padomei ir) | Z9: ir (no public. Stratēģijas 2022.-2024.g., 2.lpp) | AA9: ir (no statūtiem) | AB9: ir (finanšu un nefinanšu mērķu īsten. rezult.) | AC9: ir (neauditēti starpperiodu pārsk. un auditēti gada pārsk., revidenta ziņojumi pievienoti atsevišķi) | AD9: ir (veiktās iemaksas valsts un pašvald. budžetā, par divid. inform. nav) | AE9: ir | AF9: ir (Vispārējā inform. Par kapitālsab.) | AG9: ir | AH9: ir | AI9: ir | AJ9: ir | AK9: ir | AL9: ir (valdes reglaments, padome nav izveidota) | AM9: ir (padome nav izveidota) | AN9: ir (Dalībieku sapulces kopš 2020.g.) | AO9: ir (publicēta atalgojuma politika, valdes atalgojums public. atsevišķi pie "Finanšu informācija") | AP9: Publicēti pretkorupcijas pasākumi 2022.g. | AQ9: ir (no gada pārsk.) | AR9: ir (no gada pārsk.) | AS9: ir (Ētikas komisijas nolikums un Iepirkumu komisijas nolikums) | AT9: nav inf. | AU9: nav inf. (nav izveidota padome) | AV9: nav inf. | AW9: ir (Korp. sociālās atbild. un ilgtsp. Politika; Risku vadības, iekšējās kontr. vides un atbilst. politika) | AX9: nav | AY9: nav
A10: 15.5 | B10: =A10/18*100 -> 86.111111 | C10: 46225 | D10: www.ziemelkurzemesslimnica.lv | E10: 40003246194 | F10: SIA "Ziemeļkurzemes reģionālā slimnīca" | G10: ir | H10: ir | I10: ir | J10: ir | K10: ir | L10: ir | M10: ir | N10: ir | O10: ir | P10: ir | Q10: ir | R10: ir | S10: ir | T10: daļēji | U10: ir | V10: ir | W10: nav | X10: nav | Y10: Vērtējuma piezīme: 5.ir (par divid. nav inform.);14. daļēji (trūkst pilnv. termiņi) | Z10: ir | AA10: ir | AB10: ir (plānotās vērtības nav norādītas) | AC10: ir | AD10: ir (par divid. nav inform.) | AE10: ir | AF10: ir | AG10: ir | AH10: ir | AI10: ir | AJ10: ir (precīza adrese EIS) | AK10: ir | AL10: ir (publicēts valdes reglaments, padomes reglaments) | AM10: daļēji (trūkst pilnv. termiņi; par padomi ir pilna informācija) | AN10: ir | AO10: ir (atalgojuma politikas princ., ietverta inform. par valdes atalg.; par padomi nav inform.) | AP10: Ir būtiski uzlabojumi publicētās informācijas apjomā un kvalitātē | AQ10: ir (no gada pārsk.) | AR10: ir (no gada pārsk.) | AS10: nav | AT10: nav inf. | AU10: nav inf. | AV10: nav inf. | AW10: nav | AX10: nav | AY10: nav
A11: 15 | B11: =A11/18*100 -> 83.333333 | C11: 46225 | D11: www.vidzemesslimnica.lv | E11: 40003258333 | F11: SIA "Vidzemes slimnīca" | G11: ir | H11: ir | I11: ir | J11: ir | K11: ir | L11: ir | M11: ir | N11: ir | O11: ir | P11: ir | Q11: ir | R11: ir | S11: ir | T11: daļēji | U11: ir | V11: daļēji | W11: nav | X11: nav | Y11: Vērtējuma piezīme: 2. ir ( no statūtiem); 9. ir (norādīts, ka neveic ziedošanu (dāvināšanu)); 13. ir (valdes nolikums); 14. daļēji (vienam valdes loc. trūkst profes. darba pieredzes, izgl. apraksts un amati citās sab.; padome nav izveidota); 15. ir (informācija pie sadaļas SIA "Vidzemes slimnīcas" dalībnieku sapulce); 16. daļēji (pie atalgojuma politikas principi valdes loc. atalg., padome nav izveidota, trūkst informācija par izmaksāto atlagojumu) | Z11: ir | AA11: ir (no statūtiem) | AB11: daļēji (apraksta formā; bulkleti "Slimnīca skaitļos un faktos") | AC11: ir (Zvērināta revidenta pārbaudītiem gada pārsk. nav pievienots revidenta ziņojums) | AD11: ir (veiktās iemaksas valsts un pašvald. budžetā, par divid. inform. nav) | AE11: ir | AF11: ir (norādīts, ka inform. uz 31.12.2020.) | AG11: ir | AH11: n/a (norādīts, ka neveic ziedošanu (dāvināšanu)) | AI11: ir (par saņemtajiem ziedojumiem) | AJ11: ir (iepirkumu arhīvs un no 01.01.2019. pprecīza saite EIS) | AK11: ir | AL11: ir (valdes nolikums) | AM11: daļēji (vienam valdes loc. trūkst profes. darba pieredzes, izgl. apraksts un amati citās sab.; padome nav izveidota) | AN11: ir (dalībnieku sapulces) | AO11: daļēji (publ. Atalgojuma politikas principi, trūkst. valdes loc. atalg.) | AP11: Ir uzlabojumi publicētās informācijas apjomā un kvalitātē | AQ11: ir (no gada pārsk.) | AR11: ir (Finanšu pārskata sagatavošanas pamatnostādnes, Finanšu instrumenti un finanšu riski) | AS11: nav | AT11: nav inf. | AU11: nav inf. (nav izveidota padome) | AV11: nav inf. | AW11: nav | AX11: nav | AY11: nav
A12: 15.5 | B12: =A12/18*100 -> 86.111111 | C12: 46225 | D12: https://satiksme.daugavpils.lv/ | E12: 41503002269 | F12: SIA "Daugavpils satiksme" | G12: daļēji | H12: ir | I12: ir | J12: ir | K12: ir | L12: ir | M12: ir | N12: ir | O12: ir | P12: ir | Q12: ir | R12: ir | S12: nav | T12: ir | U12: ir | V12: nav | W12: ir | X12: ir | Y12: Vērtējuma piezīme: 1. daļēji (no stratēģijas, nav skaidri formulēts); 5. ir (par divid. nav inform.); 15. ir (informāciju grūti atrast, nav pārskatāms) ; 16.nav (atalgojuma politikas neietver valdi; nav informācija par izmaksātajām atlīdzībām.) | Z12: ir (no publicētās stratēģijas 2021.-2025.g., 20. lpp) | AA12: ir (papildu komercdarbības veidi no statūtiem) | AB12: daļēji (publicēts budžeta plāns un tā izpilde) | AC12: ir | AD12: ir (inform. par divid. nav) | AE12: ir | AF12: ir | AG12: ir (organizatorisk. struktūrā nav iekļauta padome un akcionāru sapulce) | AH12: ir | AI12: nav | AJ12: ir | AK12: ir | AL12: nav (valdes loceklis 1, padome 3) | AM12: daļēji (padomei trūkst pilnvaru termiņi) | AN12: nav | AO12: ir (atalgojums padome un valdei norādīts kā vidējā vērtība) | AP12: Publicēts Korupcijas risku analīze un pretkorupcijas pasākumu plāns | AQ12: ir (no gada pārsk.) | AR12: ir (no gada pārsk.) | AS12: nav | AT12: nav inf. | AU12: nav inf. | AV12: nav inf. | AW12: nav | AX12: ir (korp. pārvaldības paziņojums no gada pārsk. 21.-23.lpp) | AY12: nav attiecin., jo darb.sk. 247
A13: 14.5 | B13: =A13/18*100 -> 80.555556 | C13: 46225 | D13: www.rs.lv | E13: 40003286750 | F13: AS "RĪGAS SILTUMS" | G13: ir | H13: ir | I13: daļēji | J13: ir | K13: ir | L13: nav | M13: ir | N13: ir | O13: nav | P13: nav | Q13: ir | R13: ir | S13: ir | T13: ir | U13: ir | V13: ir | W13: ir | X13: ir | Y13: Vērtējuma piezīme: 2.ir (no statūtiem); 3. daļēji (no gada pārskata un ilgtspējas pārskata); 5. ir ( publicēta dividenžu politika https://www.rs.lv/sites/default/files/akardeons_fails/as_rigas_siltums_dividenzu_politika.pdf); 10. nav (informācija nav atrasta) 11. ir (norādītās precīzas saites uz dažādām ārējo elektronisko iepirkumu sist.); 14. ir (padomes loc. trūkst atzīme par neatkarīgiem padomes loc.) info par padomi - https://www.rs.lv/saturs/padome par valdi- https://www.rs.lv/saturs/valde); 15. ir (akcionāru pieņemtie lēmumi atsevišķi), 16. ir (politika //www.rs.lv/sites/default/files/akardeons_fails/as_rigas_silums_valdes_un_padomes_atlidzibas_politika.pdf) | Z13: ir | AA13: ir (no statūtiem) | AB13: daļēji (vispār. inform. gada pārsk. -> finanšu rezultāti un komercdarbības rezultāti) | AC13: ir | AD13: ir (tīmekļvietnes lapā "Iemaksas budžetā" ir informācija tikai par 2021./2022.finanšu gadu, papildus no gada pārsk., publicēta dividenžu politika) | AE13: nav | AF13: ir | AG13: ir | AH13: nav | AI13: daļēji (sadaļā "Atbalsts sabiedrībai" ir inform. par veiktajiem dāvin./zied., bet nav norādīta summa) | AJ13: ir (norādītās precīzas saites uz dažādām ārējo elektronisko iepirkumu sist.) | AK13: ir | AL13: nav | AM13: daļēji (trūkst pilnvaru term. un padomes loc. atzīme par neatkarīgiem padomes loc.) | AN13: nav | AO13: nav | AQ13: ir (no gada pārsk.) | AR13: ir (no gada pārsk.) | AS13: nav | AT13: nav inf. | AU13: ir (informācija par padomes audita komiteju) | AV13: nav inf. | AW13: ir (Korpor. un sociālās atbildības pol.; Korp. Pārvald. pol.; Risku pārvaldības politika, u.c.) | AX13: nav | AY13: ir (informācija no gada pārsk. un Ilgtspējas pārsk.)
A14: 12.5 | B14: =A14/18*100 -> 69.444444 | C14: 46225 | D14: www.rslimnica.lv | E14: 40003223971 | F14: SIA "RĒZEKNES SLIMNĪCA" | G14: ir | H14: ir | I14: ir | J14: daļēji | K14: daļēji | L14: daļēji | M14: ir | N14: ir | O14: ir | P14: ir | Q14: ir | R14: ir | S14: nav | T14: daļēji | U14: ir | V14: daļēji | W14: nav | X14: nav | Y14: Vērtējuma piezīme: 4. daļēji (nav publicēts 2025.gada pārskats); 5. daļēji (nav publicēta inform. par 2025.gadu, par divid. nav inform.); 6. daļeji (nav informācijas par 2025.gadu); 11. ir ( vispārēja saite uz EIS); 14. daļēji (trūkst valdes profes. darba pieredzes, izgl. apraksti un amati citās sab.; padome nav izveidota); 16.daļēji (atalgojuma politikas princ., ietverta inform. par valdes atalg. minimālā apmērā bez politikas.; nav informācija par izmaksātajām atlīdzībām.) | Z14: ir | AA14: ir | AB14: ir | AC14: daļēji (sākot ar 2022.gadu ir publicēti visi starpp. pārskati.; līdz 2022.g. trūkst starpp. pārskati) | AD14: ir (par divid. nav inform.) | AE14: ir | AF14: ir | AG14: ir | AH14: ir | AI14: ir | AJ14: daļēji (publicēts sākot no 2019.g. un ir vispārēja saite uz EIS) | AK14: ir | AL14: nav | AM14: daļēji (trūkst valdes profes. darba pieredzes, izgl. apraksti un amati citās sab.; padome nav izveidota) | AN14: ir (kopš 2020.g.) | AO14: ir (atalgojuma politikas principi, t.sk. valdes atalg.) | AQ14: ir (no gada pārsk.) | AR14: ir | AS14: nav | AT14: nav inf. | AU14: nav inf. (nav izveidota padome) | AV14: nav inf. | AW14: nav | AX14: nav | AY14: nav
A15: 12.5 | B15: =A15/18*100 -> 69.444444 | C15: 46225 | D15: www.slimnica.daugavpils.lv | E15: 41503029600 | F15: SIA "Daugavpils reģionālā slimnīca" | G15: ir | H15: ir | I15: daļēji | J15: ir | K15: ir | L15: ir | M15: daļēji | N15: ir | O15: ir | P15: daļēji | Q15: ir | R15: ir | S15: nav | T15: ir | U15: daļēji | V15: daļēji | W15: nav | X15: nav | Y15: Vērtējuma piezīme:1.un 2.ir (no stratēģijas); 3. daļēji (informācija par finanšu rezultātiem par 2025.gadu nav, tīmekļa vietnē tikai vēsturiekie dati); 7. daļēji (informācija par īpašuma struktūru nav atjaunota, nav informācijas par valsts līdzdalību); 10. daļēji (ziedojumu saraksts līdz 2021. gadam); 11. ir (publicēts saraksts; norādītā saite https://www.iub.gov.lv/lv/node/882 uz IUB lapu nedarbojas); 15. daļēji (tikai līdz 2023.gadam); 16. daļēji (inform. par par valdes loc. izmaksāto atalgojumu ir, nav valdes locekļu atlīdzības politikas) | Z15: ir (no stratēģijas 2022.-2026.g., 38. lpp) | AA15: ir (no stratēģijas 2022.-2026.g.) | AB15: daļēji (tabulā publ. inf. 2. punktā "Rīcības plāna izpilde" un "Budžeta plāna izpilde", papildus inf. no gada pārsk.) | AC15: ir | AD15: ir (tabulā publ. inform. 3. punkts, inform. par divid. nav) | AE15: ir (no budžeta plāna izpildes, tabulā publ. inform. 4. punkts) | AF15: ir | AG15: ir | AH15: ir | AI15: ir (tikai par saņemtajiem ziedojumiem) | AJ15: ir (publicēts saraksts; norādītā saite uz IUB lapu nedarbojas) | AK15: ir | AL15: daļēji (padomes regl. publicēts; valdes nolik. nav) | AM15: daļēji (pie "Vadība" ir norādīta valde (jauna), trūkst CV un termiņi, pie "Publiskojamā inform." ir iepriekšējā valdes loc. CV) | AN15: ir (tabulas publisk. inform. 9. punktā) | AO15: ir (atalgojuma politikas princ. un inform. par padomes loc. atlg. pie CV) | AQ15: ir (no gada pārsk.) | AR15: ir (no gada pārsk.) | AS15: nav | AT15: nav inf. | AU15: nav attiecināms (no korp. paziņojuma - komitejas nav izveidotas) | AV15: nav inf. | AW15: ir (Risku pārvaldības politika - tabula Publicējamā informācija 14. punkta) | AX15: ir (iekļauts arī gada pārskatā no 49. lpp) | AY15: ir (no gada pārsk. - nefinašu paziņojumā iekļaujamā informācija iekļauta vadības ziņojumā)

Sheet Dati_Dashboard
A1: Pašvaldība | B1: Atbilstība | C1: Punkti | D1: Pārbaudes datums | E1: Aktualitātes informācija | F1: Tīmekļvietne | G1: 1. saraksts | H1: 2. pamatdati | I1: 3. mērķi | J1: 4. līdzdalība | K1: 5. pārstāvis | L1: 6. gada pārskats | M1: 7. maksājumi | N1: 8. izbeigšana | O1: 9. reorganizācija | P1: 10. ikgadējais pārskats | Q1: Piezīmes
A2: Ādažu novada pašvaldība | B2: 0.42857143 | C2: 3 | D2: 46223 | E2: Aktualizēts: 10.09.2025. | F2: Kapitālsabiedrības | Ādaži (adazunovads.lv) | G2: nav | H2: daļēji | I2: ir | J2: daļēji | K2: nav | L2: ir | M2: nav | N2: ziņu nav | O2: ziņu nav | P2: Informācija nav publiskota | Q2: trūkst informācija par divām kapitālsabiedrībām
A3: Aizkraukles novada pašvaldība | B3: 0.33333333 | C3: 2 | D3: 46223 | E3: Informācija atjaunota 21.10.2025. | F3: Kapitālsabiedrības | Aizkraukles novada pašvaldība | G3: nav | H3: nav | I3: daļēji | J3: nav attiecināms | K3: ir | L3: daļēji | M3: nav | N3: ziņu nav | O3: ziņu nav | P3: Informācija nav publiskota | Q3: juridiskā adr. un reģ.nr. jāmeklē no gada pārskata
A4: Alūksnes novada pašvaldība | B4: 1 | C4: 7 | D4: 46223 | E4: Sagatavots 26.09.2025. | F4: Kapitāl sabiedrības | Alūksnes novads (aluksne.lv) | G4: ir | H4: ir | I4: ir | J4: ir | K4: ir | L4: ir | M4: ir | N4: ziņu nav | O4: ziņu nav | P4: Informācija ir | Q4: informācija sagatavota pietiekamā apmērā
A5: Augšdaugavas novada pašvaldība | B5: 0.58333333 | C5: 3.5 | D5: 46223 | E5: - | F5: Kapitālsabiedrības | Augšdaugavas novads (augsdaugavasnovads.lv) | G5: daļēji | H5: daļēji | I5: daļēji | J5: nav attiecināms | K5: ir | L5: ir | M5: nav | N5: ziņu nav | O5: ziņu nav | P5: Informācija nav publiskota
A6: Balvu novada pašvaldība | B6: 0.28571429 | C6: 2 | D6: 46223 | E6: - | F6: Kapitālsabiedrības | Balvu novada pašvaldība (balvi.lv) | G6: nav | H6: daļēji | I6: daļēji | J6: nav | K6: ir | L6: nav | M6: nav | N6: ziņa ir | O6: ziņa ir | P6: Informācija nav publiskota | Q6: pašvaldības mājas lapā nav aktualizēta informācija kopš 2022. gada, vietām kopš 2020.gada,pašvaldība paļaujas tikai uz kapitālsabiedrību sniegto indfoemāciju
A7: Bauskas novada pašvaldība | B7: 0.58333333 | C7: 3.5 | D7: 46223 | E7: Atjaunināts: 28.01.2026 par 2024.g | F7: Kapitālsabiedrības | Bauskas novads | G7: nav | H7: ir | I7: ir | J7: nav attiecināms | K7: ir | L7: daļēji | M7: nav | N7: ziņu nav | O7: ziņu nav | P7: Informācija ir
A8: Cēsu novada pašvaldība | B8: 0.75 | C8: 4.5 | D8: 46223 | E8: - | F8: Kapitālsabiedrības, biedrības - cesis.lv | G8: daļēji | H8: ir | I8: ir | J8: nav attiecināms | K8: ir | L8: daļēji | M8: daļēji | N8: ziņa ir | O8: ziņa ir
A9: Daugavpils valstspilsētas pašvaldība | B9: 0.83333333 | C9: 5 | D9: 46223 | E9: informācija atjaunota 17.06.2026 | F9: Daugavpils.lv | G9: daļēji | H9: ir | I9: ir | J9: nav attiecināms | K9: ir | L9: daļēji | M9: ir | N9: ziņu nav | O9: ziņu nav | P9: Informācija ir
A10: Dienvidkurzemes novada pašvaldība | B10: 0.58333333 | C10: 3.5 | D10: 46223 | E10: Atjaunināts: 24.09.2025. | F10: Kapitālsabiedrības | Dienvidkurzemes novada pašvaldība (dkn.lv) | G10: nav | H10: ir | I10: ir | J10: nav attiecināms | K10: ir | L10: daļēji | M10: nav | N10: ziņu nav | O10: ziņu nav | P10: Informācija ir | Q10: mājas lapā trūkst aktuālas iemaksas budzētā un budžeta izlietojums
A11: Dobeles novada pašvaldība | B11: 0.83333333 | C11: 5 | D11: 46223 | E11: Atjaunināts: 08.02.2026. | F11: Pašvaldības kapitālsabiedrības | Dobeles novada pašvaldība | G11: daļēji | H11: ir | I11: daļēji | J11: nav attiecināms | K11: ir | L11: ir | M11: ir | N11: ziņu nav | O11: ziņa ir | P11: Informācija ir
A12: Gulbenes novada pašvaldība | B12: 0.21428571 | C12: 1.5 | D12: 46223 | E12: - | F12: Gulbenes novada pašvaldības kapitālsabiedrības | Gulbenes novada pašvaldība | G12: nav | H12: daļēji | I12: daļēji | J12: nav | K12: nav | L12: daļēji | M12: nav | N12: ziņu nav | O12: ziņu nav | P12: Informācija nav publiskota | Q12: trūkst informācijas
A13: Jēkabpils novada pašvaldība | B13: 0.42857143 | C13: 2.5714286 | D13: 46223 | E13: Pievienots: 28.04.2026 (uz 01.01.2026.) | F13: Kapitālsabiedrības | Jekabpils novada pašvaldība | G13: daļēji | H13: ir | I13: ir | J13: nav attiecināms | K13: ir | L13: ir | M13: ir | N13: ziņu nav | O13: ziņu nav | P13: Informācija ir
A14: Jelgavas novada pašvaldība | B14: 0.91666667 | C14: 5.5 | D14: 46223 | E14: Atjaunināts: 20.01.2026. | F14: Kapitālsabiedrības | Jelgavas novada pašvaldība (jelgavasnovads.lv) | G14: daļēji | H14: daļēji | I14: ir | J14: nav attiecināms | K14: ir | L14: daļēji | M14: nav | N14: ziņu nav | O14: ziņu nav
A15: Jelgavas valstspilsētas pašvaldība | B15: 0.58333333 | C15: 4.0833333 | D15: 46223 | E15: - | F15: Pašvaldības iestādes un kapitālsabiedrības - Jelgava | G15: ir | H15: daļēji | I15: daļēji | J15: daļēji | K15: nav | L15: daļēji | M15: nav | N15: ziņu nav | O15: ziņu nav | P15: Informācija nav publiskota | Q15: informācija nav aktualizēta
A16: Jūrmalas valstspilsētas pašvaldība | B16: 0.83333333 | C16: 5 | D16: 46223 | E16: Atjaunināts: 26.05.2026. | F16: Kapitālsabiedrības | Jūrmalas valstspilsētas pašvaldība (jurmala.lv) | G16: daļēji | H16: daļēji | I16: ir | J16: nav attiecināms | K16: ir | L16: ir | M16: ir | N16: ziņu nav | O16: ziņu nav | P16: Informācija nav publiskota | Q16: Informāciju par kap.sab. ir viegli atrast
A17: Krāslavas novada pašvaldība | B17: 0.33333333 | C17: 2 | D17: 46223 | E17: - | F17: Kapitālsabiedrības | Krāslavas novada pašvaldība (kraslava.lv) | G17: daļēji | H17: daļēji | I17: daļēji | J17: nav attiecināms | K17: nav | L17: daļēji | M17: nav | N17: ziņu nav | O17: ziņu nav | P17: Informācija nav publiskota | Q17: Pievienotie dokumenti ir ar dažādu aktualitāti
A18: Kuldīgas novada pašvaldība | B18: 0.91666667 | C18: 5.5 | D18: 46223 | E18: - | F18: Kapitālsabiedrības | Kuldīgas novada pašvaldība (kuldigasnovads.lv) | G18: daļēji | H18: ir | I18: ir | J18: nav attiecināms | K18: ir | L18: ir | M18: ir | N18: ziņu nav | O18: ziņu nav | P18: Informācija nav | Q18: informācija jāmeklē no gada pārskata
A19: Ķekavas novada pašvaldība | B19: 0.41666667 | C19: 2.5 | D19: 46223 | E19: - | F19: Ķekavas novada pašvaldība saglabās līdzdalību kapitālsabiedrībās - Ķekavas novads (kekava.lv) | G19: nav | H19: daļēji | I19: ir | J19: nav attiecināms | K19: ir | L19: nav | M19: nav | N19: ziņu nav | O19: ziņa ir | P19: Informācija ir
A20: Liepājas valstspilsētas pašvaldība | B20: 0.91666667 | C20: 5.5 | D20: 46223 | E20: Publicēts 6. maijs, 2026 par 2024.gadu | F20: Publiskojamā informācija par kapitālsabiedrībām | Liepāja | G20: daļēji | H20: ir | I20: ir | J20: nav attiecināms | K20: ir | L20: ir | M20: ir | N20: ziņu nav | O20: ziņu nav | P20: Informācija ir | Q20: finanšu dati pie kopējās informācijas
A21: Limbažu novada pašvaldība | B21: 0.58333333 | C21: 3.5 | D21: 46223 | E21: Atjaunināts: 08.02.2026. | F21: Kapitālsabiedrības | Limbažu novada pašvaldība (limbazunovads.lv) | G21: nav | H21: ir | I21: ir | J21: nav attiecināms | K21: ir | L21: daļēji | M21: nav | N21: ziņa ir | O21: ziņu nav | P21: Informācija ir
A22: Līvānu novada pašvaldība | B22: 0.58333333 | C22: 3.5 | D22: 46223 | E22: Atjaunināts: 26.01.2026. | F22: Kapitālsabiedrības | Līvānu novada pašvaldība (livani.lv) | G22: daļēji | H22: ir | I22: daļēji | J22: nav attiecināms | K22: ir | L22: daļēji | M22: nav | N22: ziņa ir | O22: ziņa ir | P22: Informācija ir | Q22: pašvaldības mājas lapā ir informācija, kas nav aktualizēta
A23: Ludzas novada pašvaldība | B23: 0.75 | C23: 4.5 | D23: 46223 | E23: Atjaunināts: 22.01.2026. par 2024.g | F23: Kapitālsabiedrības | Ludzas novada pašvaldība (ludzasnovads.lv) | G23: daļēji | H23: ir | I23: ir | J23: nav attiecināms | K23: ir | L23: daļēji | M23: daļēji | N23: ziņa ir | O23: ziņu nav | P23: Informācija ir
A24: Madonas novada pašvaldība | B24: 0.083333333 | C24: 0.5 | D24: 46224 | E24: - | F24: Pašvaldības kapitālsabiedrības - Madona.lv | G24: nav | H24: nav | I24: nav | J24: nav attiecināms | K24: nav | L24: daļēji | M24: nav | N24: ziņu nav | O24: ziņu nav | P24: Informācija nav publiskota | Q24: Mājas lapā info par kap.sab. tikai pie kontaktiem. Madonas novada pašvaldībai norādīta saite uz Cesvaines novada mājaslapā publicēto informāciju par kap.sab., bet tur trūkst aktuāla informācija
A25: Mārupes novada pašvaldība | B25: 0.75 | C25: 4.5 | D25: 46224 | E25: - | F25: Kapitālsabiedrības | Mārupe (marupe.lv) | G25: nav | H25: daļēji | I25: ir | J25: nav attiecināms | K25: ir | L25: ir | M25: ir | N25: ziņa ir | O25: ziņa ir | P25: Informācija nav publiskota
A26: Ogres novada pašvaldība | B26: 0.66666667 | C26: 4 | D26: 46224 | E26: Atjaunināts: 05.02.2026. par 2024.gadu | F26: Kapitālsabiedrības | Ogres novada pašvaldība (ogresnovads.lv) | G26: nav | H26: ir | I26: ir | J26: nav attiecināms | K26: ir | L26: ir | M26: nav | N26: ziņu nav | O26: ziņu nav | P26: Informācija ir
A27: Olaines novada pašvaldība | B27: 0.25 | C27: 1.5 | D27: 46224 | E27: - | F27: Olaine | G27: nav | H27: daļēji | I27: daļēji | J27: nav attiecināms | K27: nav | L27: daļēji | M27: nav | N27: ziņu nav | O27: ziņu nav | P27: Informācija nav publiskota | Q27: Atsauce uz pašvaldības kap.sab. https://www.olaine.lv/lv/pasvaldiba/par-pasvaldibu un publiskajā pārskatā
A28: Preiļu novada pašvaldība | B28: 0.66666667 | C28: 4 | D28: 46224 | E28: - | F28: Kapitālsabiedrības | Preiļi (preili.lv) | G28: nav | H28: ir | I28: ir | J28: nav attiecināms | K28: ir | L28: ir | M28: nav | N28: ziņu nav | O28: ziņu nav | P28: Informācija ir
A29: Rēzeknes novada pašvaldība | B29: 0.66666667 | C29: 4 | D29: 46224 | E29: - | F29: Kapitālsabiedrības - (rezeknesnovads.lv) | G29: nav | H29: ir | I29: ir | J29: nav attiecināms | K29: ir | L29: daļēji | M29: daļēji | N29: ziņu nav | O29: ziņu nav | P29: Informācija nav publiskota
A30: Rēzeknes valstspilsētas pašvaldība | B30: 0.83333333 | C30: 5 | D30: 46224 | E30: - | F30: Par kapitālsabiedrībām - Rēzekne - pilsēta Latgales sirdī (rezekne.lv) | G30: ir | H30: ir | I30: ir | J30: nav attiecināms | K30: ir | L30: ir | M30: nav | N30: ziņa ir | O30: ziņu nav | P30: Informācija nav publiskota | Q30: Informācija daļēja. Apkopotā informācija pieejama tikai par 2022.gadu
A31: Rīgas valstspilsētas pašvaldība | B31: 0.85714286 | C31: 6 | D31: 46224 | E31: Atjaunināts: 16.07.2026. | F31: Kapitālsabiedrības | Rīgas valstspilsētas pašvaldība (riga.lv) | G31: ir | H31: ir | I31: ir | J31: ir | K31: ir | L31: ir | M31: nav | N31: ziņa ir | O31: ziņa ir | P31: Informācija ir
A32: Ropažu novada pašvaldība | B32: 0.57142857 | C32: 4 | D32: 46224 | E32: Atjaunināts: 30.09.2025. | F32: Kapitālsabiedrības un pašvaldības aģentūras | Ropažu novada pašvaldība (ropazi.lv) | G32: nav | H32: daļēji | I32: ir | J32: ir | K32: ir | L32: daļēji | M32: nav | N32: ziņu nav | O32: ziņu nav | P32: Informācija nav publiskota | Q32: Informācija tikai no uzņēmuma mājas lapas
A33: Salaspils novada pašvaldība | B33: 0.58333333 | C33: 3.5 | D33: 46224 | E33: - | F33: Sākumlapa | Salaspils | G33: nav | H33: daļēji | I33: ir | J33: nav attiecināms | K33: daļēji | L33: daļēji | M33: ir | N33: ziņu nav | O33: ziņa ir | P33: Informācija nav publiskota | Q33: Informācijas apkopojums tikai pie Kontaktiem un ziņojums par 2020.gadu, pie informācijas par pašvaldības īpašumiem ziņas par 2023.gadu
A34: Saldus novada pašvaldība | B34: 0.75 | C34: 4.5 | D34: 46224 | E34: - | F34: Kapitālsabiedrības - Saldus novada pašvaldība mājas lapa | G34: daļēji | H34: ir | I34: ir | J34: nav attiecināms | K34: ir | L34: ir | M34: nav | N34: ziņu nav | O34: ziņu nav | P34: Informācija ir | Q34: lapa https://www.saldusslimnica.lv/kapitalsabiedriba/publiskojama-informacija nedarbojas jaunā adrese https://www.saldusslimnica.lv/publiskojama-informacija
A35: Saulkrastu novada pašvaldība | B35: 0.5 | C35: 3 | D35: 46224 | E35: - | F35: SIA “ZAAO” | Saulkrastu novada pašvaldības mājas lapa (saulkrasti.lv) | G35: nav | H35: daļēji | I35: ir | J35: nav attiecināms | K35: ir | L35: daļēji | M35: nav | N35: ziņu nav | O35: ziņu nav | P35: Informācija nav publiskota | Q35: Informācija nav atjaunota kopš 2022. gada
A36: Siguldas novada pašvaldība | B36: 0.66666667 | C36: 4 | D36: 46224 | E36: Atjaunināts 06 maijs 2026, informācija par 2023.gadu | F36: Sigulda.lv - Kapitālsabiedrības | G36: nav | H36: ir | I36: ir | J36: nav attiecināms | K36: ir | L36: ir | M36: nav | N36: ziņu nav | O36: ziņu nav | P36: Informācija ir
A37: Smiltenes novada pašvaldība | B37: 0.25 | C37: 1.5 | D37: 46224 | E37: - | F37: Kapitālsabiedrības | Smiltenes novada pašvaldība (smiltenesnovads.lv) | G37: nav | H37: daļēji | I37: daļēji | J37: nav attiecināms | K37: nav | L37: daļēji | M37: nav | N37: ziņu nav | O37: ziņu nav | P37: Informācija nav publiskota
A38: Talsu novada pašvaldība | B38: 0.83333333 | C38: 5 | D38: 46224 | E38: Publicēts: 11.09.2025. par 2024.gadu | F38: Kapitālsabiedrības | Talsi (talsunovads.lv) | G38: daļēji | H38: ir | I38: ir | J38: nav attiecināms | K38: ir | L38: ir | M38: daļēji | N38: ziņu nav | O38: ziņu nav | P38: Informācija ir
A39: Tukuma novada pašvaldība | B39: 1 | C39: 6 | D39: 46224 | E39: Atjaunināts: 15.05.2026. | F39: Kapitālsabiedrības | Tukuma novada dome (tukums.lv) | G39: ir | H39: ir | I39: ir | J39: nav attiecināms | K39: ir | L39: ir | M39: ir | N39: ziņa ir | O39: ziņa ir | P39: Informācija ir
A40: Valkas novada pašvaldība | B40: 0.16666667 | C40: 1 | D40: 46224 | E40: - | F40: Kapitālsabiedrības | Valkas novada pašvaldība | G40: nav | H40: daļēji | I40: nav | J40: nav attiecināms | K40: nav | L40: daļēji | M40: nav | N40: ziņu nav | O40: ziņu nav | P40: Informācija nav publiskota | Q40: Nepieteikama informācija
A41: Valmieras novada pašvaldība | B41: 0.83333333 | C41: 5 | D41: 46224 | E41: - | F41: Kapitālsabiedrības - Valmieras novads | G41: daļēji | H41: ir | I41: ir | J41: nav attiecināms | K41: ir | L41: ir | M41: daļēji | N41: ziņa ir | O41: ziņa ir | P41: Informācija ir
A42: Varakļānu novada pašvaldība | B42: 0.25 | C42: 1.5 | D42: 46224 | E42: mājas lapaa uzrādās nedroša | F42: Varaklani.lv | G42: daļēji | H42: daļēji | I42: nav | J42: nav attiecināms | K42: nav | L42: nav | M42: daļēji | N42: ziņu nav | O42: ziņu nav | P42: Informācija nav publiskota | Q42: dati jāmeklē no pašvaldības gada pārskata
A43: Ventspils novada pašvaldība | B43: 0.83333333 | C43: 5 | D43: 46224 | E43: - | F43: Ventspils novads | G43: daļēji | H43: ir | I43: ir | J43: nav attiecināms | K43: ir | L43: daļēji | M43: ir | N43: ziņu nav | O43: ziņu nav | P43: Informācija nav publiskota
A44: Ventspils valstspilsētas pašvaldība | B44: 0.71428571 | C44: 5 | D44: 46224 | E44: - | F44: Kapitālsabiedrības - Ventspils | G44: nav | H44: ir | I44: ir | J44: ir | K44: nav | L44: ir | M44: ir | N44: ziņu nav | O44: ziņu nav | P44: Informācija nav publiskota
A48: Kapitālsabiedrība | B48: Atbilstība | C48: Punkti | D48: Pārbaudes datums | E48: Tīmekļvietne | F48: Reģ. Nr. | G48: Ir | H48: Daļēji | I48: Nav | J48: Piezīmes
A49: SIA "Rīgas ūdens" | B49: 1 | C49: 18 | D49: 46225 | E49: www.rigasudens.lv | F49: 40103023035 | G49: 18 | H49: 0 | I49: 0 | J49: Vērtējuma piezīme: 5.ir (par divid. nav inform.)
A50: SIA "Rīgas meži" | B50: 1 | C50: 18 | D50: 46225 | E50: www.rigasmezi.lv | F50: 40003982628 | G50: 18 | H50: 0 | I50: 0 | J50: Vērtējuma piezīmes: 1. ir (papildu no vidēja termiņa stratēģijas 2019. – 2025.g.); 2.ir (no statūtiem); 6.ir ("Publiskojamā informācija" -> "Finanšu informācija" -> "Dotācijas"); 14. ir (valdes, padome; attiecīgi pie katra norādīts atalgojums)
A51: SIA "LIEPĀJAS REĢIONĀLĀ SLIMNĪCA" | B51: 0.97222222 | C51: 17.5 | D51: 46224 | E51: www.liepajasslimnica.lv | F51: 42103041306 | G51: 17 | H51: 1 | I51: 0 | J51: Vērtējuma piezīme: 16.daļēji (par valdes/padomes locekļa atlīdzības politiku nav informācija)
A52: Rīgas pašvaldības SIA "Rīgas satiksme" | B52: 0.97222222 | C52: 17.5 | D52: 46224 | E52: https://www.rigassatiksme.lv | F52: 40003619950 | G52: 17 | H52: 1 | I52: 0 | J52: Vērtējuma piezīme: 16.daļēji (par katra valdes/padomes locekļa atlīdzību inform. ir , bet atalgojuma politikas valdei un padomei nav)
A53: SIA "Rīgas namu pārvaldnieks" | B53: 0.97222222 | C53: 17.5 | D53: 46225 | E53: www.rnparvaldnieks.lv | F53: 40103362321 | G53: 17 | H53: 1 | I53: 0 | J53: Vērtējuma piezīme: 16.daļēji (par valdes/padomes locekļa atlīdzības politiku nav informācija)
A54: SIA "Rīgas nami" | B54: 0.94444444 | C54: 17 | D54: 46225 | E54: www.rigasnami.lv | F54: 40003109638 | G54: 17 | H54: 0 | I54: 1 | J54: Vērtējuma piezīme: 2. ir (no statūtiem); 5. ir (par divid. nav inform); 6.ir (no gada pārsk. Un informācija par deleģētēšanas pakalpojumu līgumu izpildi), 16.ir (valdes un padomes atalgojuma politika https://www.rigasnami.lv/uploads/files/14.%20Valdes%20un%20padomes%20atalgojuma%20politika_2026.pdf), 18. nav (par 2024. gadu bija)
A55: SIA "Daugavpils ūdens" | B55: 0.86111111 | C55: 15.5 | D55: 46225 | E55: www.daugavpils.udens.lv | F55: 41503002432 | G55: 15 | H55: 1 | I55: 2 | J55: Vērtējuma piezīmes: 2. ir (no statūtiem); 16. daļēji (nav publiskotas izmaksātās atlīdzības, atalgojuma politika valdei un padomei ir)
A56: SIA "Ziemeļkurzemes reģionālā slimnīca" | B56: 0.86111111 | C56: 15.5 | D56: 46225 | E56: www.ziemelkurzemesslimnica.lv | F56: 40003246194 | G56: 15 | H56: 1 | I56: 2 | J56: Vērtējuma piezīme: 5.ir (par divid. nav inform.);14. daļēji (trūkst pilnv. termiņi)
A57: SIA "Vidzemes slimnīca" | B57: 0.83333333 | C57: 15 | D57: 46225 | E57: www.vidzemesslimnica.lv | F57: 40003258333 | G57: 14 | H57: 2 | I57: 2 | J57: Vērtējuma piezīme: 2. ir ( no statūtiem); 9. ir (norādīts, ka neveic ziedošanu (dāvināšanu)); 13. ir (valdes nolikums); 14. daļēji (vienam valdes loc. trūkst profes. darba pieredzes, izgl. apraksts un amati citās sab.; padome nav izveidota); 15. ir (informācija pie sadaļas SIA "Vidzemes slimnīcas" dalībnieku sapulce); 16. daļēji (pie atalgojuma politikas principi valdes loc. atalg., padome nav izveidota, trūkst informācija par izmaksāto atlagojumu)
A58: SIA "Daugavpils satiksme" | B58: 0.86111111 | C58: 15.5 | D58: 46225 | E58: https://satiksme.daugavpils.lv/ | F58: 41503002269 | G58: 15 | H58: 1 | I58: 2 | J58: Vērtējuma piezīme: 1. daļēji (no stratēģijas, nav skaidri formulēts); 5. ir (par divid. nav inform.); 15. ir (informāciju grūti atrast, nav pārskatāms) ; 16.nav (atalgojuma politikas neietver valdi; nav informācija par izmaksātajām atlīdzībām.)
A59: AS "RĪGAS SILTUMS" | B59: 0.80555556 | C59: 14.5 | D59: 46225 | E59: www.rs.lv | F59: 40003286750 | G59: 14 | H59: 1 | I59: 3 | J59: Vērtējuma piezīme: 2.ir (no statūtiem); 3. daļēji (no gada pārskata un ilgtspējas pārskata); 5. ir ( publicēta dividenžu politika https://www.rs.lv/sites/default/files/akardeons_fails/as_rigas_siltums_dividenzu_politika.pdf); 10. nav (informācija nav atrasta) 11. ir (norādītās precīzas saites uz dažādām ārējo elektronisko iepirkumu sist.); 14. ir (padomes loc. trūkst atzīme par neatkarīgiem padomes loc.) info par padomi - https://www.rs.lv/saturs/padome par valdi- https://www.rs.lv/saturs/valde); 15. ir (akcionāru pieņemtie lēmumi atsevišķi), 16. ir (politika //www.rs.lv/sites/default/files/akardeons_fails/as_rigas_silums_valdes_un_padomes_atlidzibas_politika.pdf)
A60: SIA "RĒZEKNES SLIMNĪCA" | B60: 0.69444444 | C60: 12.5 | D60: 46225 | E60: www.rslimnica.lv | F60: 40003223971 | G60: 10 | H60: 5 | I60: 3 | J60: Vērtējuma piezīme: 4. daļēji (nav publicēts 2025.gada pārskats); 5. daļēji (nav publicēta inform. par 2025.gadu, par divid. nav inform.); 6. daļeji (nav informācijas par 2025.gadu); 11. ir ( vispārēja saite uz EIS); 14. daļēji (trūkst valdes profes. darba pieredzes, izgl. apraksti un amati citās sab.; padome nav izveidota); 16.daļēji (atalgojuma politikas princ., ietverta inform. par valdes atalg. minimālā apmērā bez politikas.; nav informācija par izmaksātajām atlīdzībām.)
A61: SIA "Daugavpils reģionālā slimnīca" | B61: 0.69444444 | C61: 12.5 | D61: 46225 | E61: www.slimnica.daugavpils.lv | F61: 41503029600 | G61: 10 | H61: 5 | I61: 3 | J61: Vērtējuma piezīme:1.un 2.ir (no stratēģijas); 3. daļēji (informācija par finanšu rezultātiem par 2025.gadu nav, tīmekļa vietnē tikai vēsturiekie dati); 7. daļēji (informācija par īpašuma struktūru nav atjaunota, nav informācijas par valsts līdzdalību); 10. daļēji (ziedojumu saraksts līdz 2021. gadam); 11. ir (publicēts saraksts; norādītā saite https://www.iub.gov.lv/lv/node/882 uz IUB lapu nedarbojas); 15. daļēji (tikai līdz 2023.gadam); 16. daļēji (inform. par par valdes loc. izmaksāto atalgojumu ir, nav valdes locekļu atlīdzības politikas)
A65: Atbilstības grupa | B65: Skaits | E65: Kritērijs | F65: Pilnībā | G65: Daļēji | H65: Nav
A66: 100% | B66: =COUNTIF(B2:B44,1) -> 2 | E66: 1. Grupēts saraksts | F66: =COUNTIF(G2:G44,"ir") -> 5 | G66: =COUNTIF(G2:G44,"daļēji") -> 17 | H66: =COUNTIF(G2:G44,"nav") -> 21
A67: 76–99% | B67: =COUNTIFS(B2:B44,">0.75",B2:B44,"<1") -> 0 | E67: 2. Pamatdati | F67: =COUNTIF(H2:H44,"ir") -> 24 | G67: =COUNTIF(H2:H44,"daļēji") -> 17 | H67: =COUNTIF(H2:H44,"nav") -> 2
A68: 51–75% | B68: =COUNTIFS(B2:B44,">0.5",B2:B44,"<=0.75") -> 0 | E68: 3. Mērķi | F68: =COUNTIF(I2:I44,"ir") -> 30 | G68: =COUNTIF(I2:I44,"daļēji") -> 10 | H68: =COUNTIF(I2:I44,"nav") -> 3
A69: 31–50% | B69: =COUNTIFS(B2:B44,">0.3",B2:B44,"<=0.5") -> 0 | E69: 4. Līdzdalība | F69: =COUNTIF(J2:J44,"ir") -> 4 | G69: =COUNTIF(J2:J44,"daļēji") -> 2 | H69: =COUNTIF(J2:J44,"nav") -> 2
A70: Līdz 30% | B70: =COUNTIF(B2:B44,"<=0.3") -> 0 | E70: 5. Pārstāvis | F70: =COUNTIF(K2:K44,"ir") -> 32 | G70: =COUNTIF(K2:K44,"daļēji") -> 1 | H70: =COUNTIF(K2:K44,"nav") -> 10
E71: 6. Gada pārskats | F71: =COUNTIF(L2:L44,"ir") -> 19 | G71: =COUNTIF(L2:L44,"daļēji") -> 21 | H71: =COUNTIF(L2:L44,"nav") -> 3
E72: 7. Maksājumi | F72: =COUNTIF(M2:M44,"ir") -> 12 | G72: =COUNTIF(M2:M44,"daļēji") -> 6 | H72: =COUNTIF(M2:M44,"nav") -> 25

Sheet Grafiks 2
A1: Punkti | C1: Kapitālsabiedrības nosaukums | D1: Ir | E1: Daļēji | F1: Nav | I1: Kapitālsabiedrības nosaukums | J1: Ir | K1: Daļēji | L1: Nav
A2: ='Lielās-kapsab.'!A5 -> 17.5 | C2: SIA "LIEPĀJAS REĢIONĀLĀ SLIMNĪCA" | D2: =COUNTIF('Lielās-kapsab.'!G5:X5,"ir") -> 17 | E2: =COUNTIF('Lielās-kapsab.'!G5:X5,"daļēji") -> 1 | F2: =COUNTIF('Lielās-kapsab.'!G5:X5,"nav") -> 0 | I2: SIA "LIEPĀJAS REĢIONĀLĀ SLIMNĪCA" | J2: 17 | K2: 1 | L2: 0
A3: ='Lielās-kapsab.'!A6 -> 17.5 | C3: Rīgas pašvaldības SIA "Rīgas satiksme" | D3: =COUNTIF('Lielās-kapsab.'!G6:X6,"ir") -> 17 | E3: =COUNTIF('Lielās-kapsab.'!G6:X6,"daļēji") -> 1 | F3: =COUNTIF('Lielās-kapsab.'!G6:X6,"nav") -> 0 | I3: Rīgas pašvaldības SIA "Rīgas satiksme" | J3: 17 | K3: 1 | L3: 0
A4: ='Lielās-kapsab.'!A7 -> 17.5 | C4: SIA "Rīgas namu pārvaldnieks" | D4: =COUNTIF('Lielās-kapsab.'!G7:X7,"ir") -> 17 | E4: =COUNTIF('Lielās-kapsab.'!G7:X7,"daļēji") -> 1 | F4: =COUNTIF('Lielās-kapsab.'!G7:X7,"nav") -> 0 | I4: SIA "Rīgas namu pārvaldnieks" | J4: 17 | K4: 1 | L4: 0
A5: ='Lielās-kapsab.'!A3 -> 18 | C5: SIA "Rīgas ūdens" | D5: =COUNTIF('Lielās-kapsab.'!G3:X3,"ir") -> 18 | E5: =COUNTIF('Lielās-kapsab.'!G3:X3,"daļēji") -> 0 | F5: =COUNTIF('Lielās-kapsab.'!G3:X3,"nav") -> 0 | I5: SIA "Rīgas ūdens" | J5: 18 | K5: 0 | L5: 0
A6: ='Lielās-kapsab.'!A15 -> 12.5 | C6: SIA "Daugavpils reģionālā slimnīca" | D6: =COUNTIF('Lielās-kapsab.'!G15:X15,"ir") -> 10 | E6: =COUNTIF('Lielās-kapsab.'!G15:X15,"daļēji") -> 5 | F6: =COUNTIF('Lielās-kapsab.'!G15:X15,"nav") -> 3 | I6: SIA "Daugavpils reģionālā slimnīca" | J6: 10 | K6: 5 | L6: 3
A7: ='Lielās-kapsab.'!A4 -> 18 | C7: SIA "Rīgas meži" | D7: =COUNTIF('Lielās-kapsab.'!G4:X4,"ir") -> 18 | E7: =COUNTIF('Lielās-kapsab.'!G4:X4,"daļēji") -> 0 | F7: =COUNTIF('Lielās-kapsab.'!G4:X4,"nav") -> 0 | I7: SIA "Rīgas meži" | J7: 18 | K7: 0 | L7: 0
A8: ='Lielās-kapsab.'!A9 -> 15.5 | C8: SIA "Daugavpils ūdens" | D8: =COUNTIF('Lielās-kapsab.'!G9:X9,"ir") -> 15 | E8: =COUNTIF('Lielās-kapsab.'!G9:X9,"daļēji") -> 1 | F8: =COUNTIF('Lielās-kapsab.'!G9:X9,"nav") -> 2 | I8: SIA "Daugavpils ūdens" | J8: 15 | K8: 1 | L8: 2
A9: ='Lielās-kapsab.'!A10 -> 15.5 | C9: SIA "Ziemeļkurzemes reģionālā slimnīca" | D9: =COUNTIF('Lielās-kapsab.'!G10:X10,"ir") -> 15 | E9: =COUNTIF('Lielās-kapsab.'!G10:X10,"daļēji") -> 1 | F9: =COUNTIF('Lielās-kapsab.'!G10:X10,"nav") -> 2 | I9: SIA "Ziemeļkurzemes reģionālā slimnīca" | J9: 15 | K9: 1 | L9: 2
A10: ='Lielās-kapsab.'!A14 -> 12.5 | C10: SIA "RĒZEKNES SLIMNĪCA" | D10: =COUNTIF('Lielās-kapsab.'!G14:X14,"ir") -> 10 | E10: =COUNTIF('Lielās-kapsab.'!G14:X14,"daļēji") -> 5 | F10: =COUNTIF('Lielās-kapsab.'!G14:X14,"nav") -> 3 | I10: SIA "RĒZEKNES SLIMNĪCA" | J10: 10 | K10: 5 | L10: 3
A11: ='Lielās-kapsab.'!A12 -> 15.5 | C11: SIA "Daugavpils satiksme" | D11: =COUNTIF('Lielās-kapsab.'!G12:X12,"ir") -> 15 | E11: =COUNTIF('Lielās-kapsab.'!G12:X12,"daļēji") -> 1 | F11: =COUNTIF('Lielās-kapsab.'!G12:X12,"nav") -> 2 | I11: SIA "Daugavpils satiksme" | J11: 15 | K11: 1 | L11: 2
A12: ='Lielās-kapsab.'!A11 -> 15 | C12: SIA "Vidzemes slimnīca" | D12: =COUNTIF('Lielās-kapsab.'!G11:X11,"ir") -> 14 | E12: =COUNTIF('Lielās-kapsab.'!G11:X11,"daļēji") -> 2 | F12: =COUNTIF('Lielās-kapsab.'!G11:X11,"nav") -> 2 | I12: SIA "Vidzemes slimnīca" | J12: 14 | K12: 2 | L12: 2
A13: ='Lielās-kapsab.'!A13 -> 14.5 | C13: AS "RĪGAS SILTUMS" | D13: =COUNTIF('Lielās-kapsab.'!G13:X13,"ir") -> 14 | E13: =COUNTIF('Lielās-kapsab.'!G13:X13,"daļēji") -> 1 | F13: =COUNTIF('Lielās-kapsab.'!G13:X13,"nav") -> 3 | I13: AS "RĪGAS SILTUMS" | J13: 14 | K13: 1 | L13: 3
A14: ='Lielās-kapsab.'!A8 -> 17 | C14: SIA "Rīgas nami" | D14: =COUNTIF('Lielās-kapsab.'!G8:X8,"ir") -> 17 | E14: =COUNTIF('Lielās-kapsab.'!G8:X8,"daļēji") -> 0 | F14: =COUNTIF('Lielās-kapsab.'!G8:X8,"nav") -> 1 | I14: SIA "Rīgas nami" | J14: 17 | K14: 0 | L14: 1
